BEGIN:VCALENDAR
VERSION:2.0
PRODID:-//ChamberMaster//Event Calendar 2.0//EN
METHOD:PUBLISH
X-PUBLISHED-TTL:P3D
REFRESH-INTERVAL:P3D
CALSCALE:GREGORIAN
BEGIN:VEVENT
DTSTART:20250904T213000Z
DTEND:20250904T223000Z
X-MICROSOFT-CDO-ALLDAYEVENT:FALSE
SUMMARY:Mindfulness Workshops: Soaring Self-Esteem
DESCRIPTION:Kids boost self-esteem through stories\, and self-esteem jars learning to believe in themselves and bounce back from setbacks.
X-ALT-DESC;FMTTYPE=text/html:Kids boost self-esteem through stories\, and self-esteem jars&mdash\;learning to believe in themselves and bounce back from setbacks.
LOCATION:North Suburban YMCA 2705 Techny Rd. Northbrook. IL 60062
UID:e.434.11257
SEQUENCE:3
DTSTAMP:20260420T055330Z
URL:http://business.glenviewchamber.com/events/details/mindfulness-workshops-soaring-self-esteem-11257
END:VEVENT

END:VCALENDAR
