BEGIN:VCALENDAR
VERSION:2.0
PRODID:-//ChamberMaster//Event Calendar 2.0//EN
METHOD:PUBLISH
X-PUBLISHED-TTL:P3D
REFRESH-INTERVAL:P3D
CALSCALE:GREGORIAN
BEGIN:VEVENT
DTSTART:20251009T213000Z
DTEND:20251009T223000Z
X-MICROSOFT-CDO-ALLDAYEVENT:FALSE
SUMMARY:Mindfulness Workshops: Unlocking Our Power to Persevere
DESCRIPTION:Kids build resilience through stories learning mindset tools to see obstacles as opportunities and grow more confident.
X-ALT-DESC;FMTTYPE=text/html:Kids build resilience through stories&mdash\;learning mindset tools to see obstacles as opportunities and grow more confident.
LOCATION:North Suburban YMCA 2705 Techny Rd. Northbrook. IL 60062
UID:e.434.11258
SEQUENCE:3
DTSTAMP:20260420T060837Z
URL:http://business.glenviewchamber.com/events/details/mindfulness-workshops-unlocking-our-power-to-persevere-11258
END:VEVENT

END:VCALENDAR
