BEGIN:VCALENDAR
VERSION:2.0
PRODID:-//ChamberMaster//Event Calendar 2.0//EN
METHOD:PUBLISH
X-PUBLISHED-TTL:P3D
REFRESH-INTERVAL:P3D
CALSCALE:GREGORIAN
BEGIN:VEVENT
DTSTART:20260312T213000Z
DTEND:20260312T223000Z
X-MICROSOFT-CDO-ALLDAYEVENT:FALSE
SUMMARY:Minds in Motion Workshop: Chemical Creations 2
DESCRIPTION:Grades K-5th Make your very own bouncy ball\, learn about Chromatography\, and write secret messages using invisible ink!
X-ALT-DESC;FMTTYPE=text/html:Grades K-5th Make your very own bouncy ball\, learn about Chromatography\, and write secret messages using invisible ink!
LOCATION:North Suburban YMCA\, 2705 Techny Rd\, Northbrook\, IL 60062
UID:e.434.11709
SEQUENCE:3
DTSTAMP:20260421T064944Z
URL:http://business.glenviewchamber.com/events/details/minds-in-motion-workshop-chemical-creations-2-11709
END:VEVENT

END:VCALENDAR
