BEGIN:VCALENDAR
VERSION:2.0
PRODID:-//ChamberMaster//Event Calendar 2.0//EN
METHOD:PUBLISH
X-PUBLISHED-TTL:P3D
REFRESH-INTERVAL:P3D
CALSCALE:GREGORIAN
BEGIN:VEVENT
DTSTART:20260218T223000Z
DTEND:20260218T233000Z
X-MICROSOFT-CDO-ALLDAYEVENT:FALSE
SUMMARY:Minds in Motion Workshop: Electricity & Magnets
DESCRIPTION:Join our Minds in Motion lab to explore electronics and magnetism with hands-on experiments\, glowing lights\, spinning motors\, and magnetic fun!
X-ALT-DESC;FMTTYPE=text/html:Join our Minds in Motion lab to explore electronics and magnetism with hands-on experiments\, glowing lights\, spinning motors\, and magnetic fun!
LOCATION:2705 Techny Rd\, Northbrook\, IL\, 60062
UID:e.434.11555
SEQUENCE:3
DTSTAMP:20260425T112107Z
URL:http://business.glenviewchamber.com/events/details/minds-in-motion-workshop-electricity-magnets-11555
END:VEVENT

END:VCALENDAR
