BEGIN:VCALENDAR
VERSION:2.0
PRODID:-//ChamberMaster//Event Calendar 2.0//EN
METHOD:PUBLISH
X-PUBLISHED-TTL:P3D
REFRESH-INTERVAL:P3D
CALSCALE:GREGORIAN
BEGIN:VEVENT
DTSTART:20260428T213000Z
DTEND:20260428T223000Z
X-MICROSOFT-CDO-ALLDAYEVENT:FALSE
SUMMARY:Minds in Motion Workshop: Outer Space & Physics Fun
DESCRIPTION:Check out a real meteorite fragment\, watch a cosmic rocket launch\, create your own planet and more!
X-ALT-DESC;FMTTYPE=text/html:Check out a real meteorite fragment\, watch a cosmic rocket launch\, create your own planet and more!
LOCATION:North Suburban YMCA\, 2705 Techny Rd\, Northbrook\, IL 60062
UID:e.434.11718
SEQUENCE:3
DTSTAMP:20260424T120832Z
URL:http://business.glenviewchamber.com/events/details/minds-in-motion-workshop-outer-space-physics-fun-11718
END:VEVENT

END:VCALENDAR
