BEGIN:VCALENDAR
VERSION:2.0
PRODID:-//ChamberMaster//Event Calendar 2.0//EN
METHOD:PUBLISH
X-PUBLISHED-TTL:P3D
REFRESH-INTERVAL:P3D
CALSCALE:GREGORIAN
BEGIN:VEVENT
DTSTART:20260430T223000Z
DTEND:20260430T233000Z
X-MICROSOFT-CDO-ALLDAYEVENT:FALSE
SUMMARY:Miss Kim's Craftastic Workshop: Mother's Day Tumbler
DESCRIPTION:Create a special Mother's Day gift! Kids design and sublimate personalized tumblers with colorful art and heartfelt messages for Mom.
X-ALT-DESC;FMTTYPE=text/html:Create a special Mother&rsquo\;s Day gift! Kids design and sublimate personalized tumblers with colorful art and heartfelt messages for Mom.
LOCATION:North Suburban YMCA\, 2705 Techny Rd\, Northbrook\, IL 60062
UID:e.434.11719
SEQUENCE:3
DTSTAMP:20260424T120838Z
URL:http://business.glenviewchamber.com/events/details/miss-kim-s-craftastic-workshop-mother-s-day-tumbler-11719
END:VEVENT

END:VCALENDAR
