BEGIN:VCALENDAR
VERSION:2.0
PRODID:-//ChamberMaster//Event Calendar 2.0//EN
METHOD:PUBLISH
X-PUBLISHED-TTL:P3D
REFRESH-INTERVAL:P3D
CALSCALE:GREGORIAN
BEGIN:VEVENT
DTSTART:20260219T223000Z
DTEND:20260220T000000Z
X-MICROSOFT-CDO-ALLDAYEVENT:FALSE
SUMMARY:Mr. Fern's Cooking Workshop: Mini Pound Cakes with Strawberry Topping
DESCRIPTION:Bakers will whip up individual pound cakes and top them with fresh strawberries and a dollop of whipped cream.
X-ALT-DESC;FMTTYPE=text/html:Bakers will whip up individual pound cakes and top them with fresh strawberries and a dollop of whipped cream.
LOCATION:2705 Techny Rd\, Northbrook\, IL\, 60062
UID:e.434.11557
SEQUENCE:3
DTSTAMP:20260425T102324Z
URL:http://business.glenviewchamber.com/events/details/mr-fern-s-cooking-workshop-mini-pound-cakes-with-strawberry-topping-11557
END:VEVENT

END:VCALENDAR
