BEGIN:VCALENDAR
VERSION:2.0
PRODID:-//ChamberMaster//Event Calendar 2.0//EN
METHOD:PUBLISH
X-PUBLISHED-TTL:P3D
REFRESH-INTERVAL:P3D
CALSCALE:GREGORIAN
BEGIN:VEVENT
DTSTART:20260310T213000Z
DTEND:20260310T230000Z
X-MICROSOFT-CDO-ALLDAYEVENT:FALSE
SUMMARY:Mr. Fern's Cooking Workshop: "Pots of Gold" Broccoli Cheddar Soup with Bread Bowls
DESCRIPTION:Get ready for tasty fun! In these awesome cooking workshops\, kids will whip up yummy seasonal treats to enjoy!
X-ALT-DESC;FMTTYPE=text/html:Get ready for tasty fun! In these awesome cooking workshops\, kids will whip up yummy seasonal treats to enjoy!
LOCATION:North Suburban YMCA\, 2705 Techny Rd\, Northbrook\, IL 60062
UID:e.434.11708
SEQUENCE:3
DTSTAMP:20260421T051443Z
URL:http://business.glenviewchamber.com/events/details/mr-fern-s-cooking-workshop-pots-of-gold-broccoli-cheddar-soup-with-bread-bowls-11708
END:VEVENT

END:VCALENDAR
