BEGIN:VCALENDAR
VERSION:2.0
PRODID:-//ChamberMaster//Event Calendar 2.0//EN
METHOD:PUBLISH
X-PUBLISHED-TTL:P3D
REFRESH-INTERVAL:P3D
CALSCALE:GREGORIAN
BEGIN:VEVENT
DTSTART:20171109T133000Z
DTEND:20171109T150000Z
X-MICROSOFT-CDO-ALLDAYEVENT:FALSE
SUMMARY:Multi-Chamber Breakfast at RbA Glenview!
DESCRIPTION:Glenview\, Buffalo Grove/Lincolnshire\, and Skokie Multi-Chamber Breakfast\n\n    at the beautiful showroom of Renewal by Andersen Windows & Doors!\n\n                  Bring your business cards for Networking!
X-ALT-DESC;FMTTYPE=text/html:Glenview\, Buffalo Grove/Lincolnshire\, and Skokie Multi-Chamber Breakfast<br />\n&nbsp\; &nbsp\; at the beautiful showroom of Renewal by Andersen Windows &amp\; Doors!<br />\n&nbsp\; &nbsp\; &nbsp\; &nbsp\; &nbsp\; &nbsp\; &nbsp\; &nbsp\; &nbsp\; Bring your business cards for Networking!<br />\n&nbsp\; &nbsp\; &nbsp\; &nbsp\; &nbsp\; &nbsp\; &nbsp\; &nbsp\; &nbsp\; &nbsp\; &nbsp\;&nbsp\;
LOCATION:2300 Ridge Drive\, Glenview\, 60025
UID:e.434.7333
SEQUENCE:3
DTSTAMP:20260425T224936Z
URL:http://business.glenviewchamber.com/events/details/multi-chamber-breakfast-at-rba-glenview-7333
END:VEVENT

END:VCALENDAR
