BEGIN:VCALENDAR
VERSION:2.0
PRODID:-//ChamberMaster//Event Calendar 2.0//EN
METHOD:PUBLISH
X-PUBLISHED-TTL:P3D
REFRESH-INTERVAL:P3D
CALSCALE:GREGORIAN
BEGIN:VEVENT
DTSTART:20180321T123000Z
DTEND:20180321T150000Z
X-MICROSOFT-CDO-ALLDAYEVENT:FALSE
SUMMARY:Multi Chamber Education: Harassment in the Workplace
DESCRIPTION:A Multi Chamber Event with the Illinois State Chamber of Commerce and the Management Association to present:\n\nMULTI CHAMBER EDUCATIONAL & NETWORKING OPPORTUNITY!\n\nTitle: HARASSEMENT in the Workplace: BE PROACTIVE AND PREPARED\n\nWith all the recent high-profile cases\, the "Me-too" hashtag on social media and the rise in claims before administrative agencies\, now more than ever\, employers need to make sure that they are training their employees in the prevention of harassment.\n\n \n\nThis program is designed for business owners and human resource professionals who want to create a work environment that is conducive to avoiding harassment\, yet\, encourages employees to come forward in the event something happens.\n\n \n\nEVENT FORMAT\n\n7:30 a.m. - 8:15 a.m.: Registration-Networking / Continental Breakfast (Private Area)\n\n8:30 a.m. -10:00 a.m.: Program with Audience Q&A (Program in Theater)
X-ALT-DESC;FMTTYPE=text/html:<p>A&nbsp\;Multi Chamber Event with the Illinois State Chamber of Commerce and the Management Association to present:<br />\n<strong><span style="color:red\;"><span style="font-family:cambria\,serif\;">MULTI CHAMBER EDUCATIONAL &amp\; NETWORKING OPPORTUNITY!</span></span></strong><br />\n<strong><span style="color:red\;"><span style="font-family:cambria\,serif\;">Title: HARASSEMENT in the Workplace: BE PROACTIVE AND PREPARED</span></span></strong></p>\n\n<p><em><span style="font-family:cambria\,serif\;">With all the recent high-profile cases\, the &ldquo\;Me-too&rdquo\; hashtag on social media and the rise in claims before administrative agencies\, now more than ever\, employers need to make sure that they are training their employees in the prevention of harassment.</span></em><br />\n&nbsp\;<br />\n<em><span style="font-family:cambria\,serif\;">This program is designed for business owners and human resource professionals who want to create a work environment that is conducive to avoiding harassment\, yet\, encourages employees to come forward in the event something happens.</span></em><br />\n&nbsp\;</p>\n\n<p><strong><span style="font-family:cambria\,serif\;">EVENT FORMAT</span></strong><br />\n<span style="font-family:cambria\,serif\;">7:30 a.m. - 8:15 a.m.: Registration-Networking / Continental Breakfast (Private Area)</span><br />\n<span style="font-family:cambria\,serif\;">8:30 a.m. -10:00 a.m.: Program with Audience Q&amp\;A (Program in Theater)&nbsp\; </span><br />\n&nbsp\;<br />\n&nbsp\;</p>\n
LOCATION:Prairie Lakes Community Center Theater 515 E Thacker St\, Des Plaines\, IL off of Thacker/Dempster in Des Plaines
UID:e.434.8705
SEQUENCE:3
DTSTAMP:20260425T164713Z
URL:http://business.glenviewchamber.com/events/details/multi-chamber-education-harassment-in-the-workplace-8705
END:VEVENT

END:VCALENDAR
