BEGIN:VCALENDAR
VERSION:2.0
PRODID:-//ChamberMaster//Event Calendar 2.0//EN
METHOD:PUBLISH
X-PUBLISHED-TTL:P3D
REFRESH-INTERVAL:P3D
CALSCALE:GREGORIAN
BEGIN:VEVENT
DTSTART:20180419T163000Z
DTEND:20180419T180000Z
X-MICROSOFT-CDO-ALLDAYEVENT:FALSE
SUMMARY:Multi Chamber Networking Lunch
DESCRIPTION:Professional Networking Luncheon \n\nMulti Chamber Event\n\nTopic: When you have experienced a "pause" in your business growth\, what do you do to give business a boost?"
X-ALT-DESC;FMTTYPE=text/html:<span style="font-family:verdana\,sans-serif\;"><span style="font-size:12.0pt\;">Professional Networking Luncheon&nbsp\;<br />\nMulti Chamber Event<br />\n<span style="font-size:12px\;">Topic:&nbsp\;</span></span></span><span style="font-size:12px\;"><span style="background:white\;"><span style="color:#333333\;"><span style="font-family:arial\,sans-serif\;">When you have experienced a &quot\;pause&quot\; in your business growth\, what do you do to give business a boost?&quot\;</span></span></span></span><br />\n&nbsp\;
LOCATION:Marriott Suites Deerfield 2 Parkway North\, Deerfield
UID:e.434.8703
SEQUENCE:3
DTSTAMP:20260425T152657Z
URL:http://business.glenviewchamber.com/events/details/multi-chamber-networking-lunch-8703
END:VEVENT

END:VCALENDAR
