BEGIN:VCALENDAR
VERSION:2.0
PRODID:-//ChamberMaster//Event Calendar 2.0//EN
METHOD:PUBLISH
X-PUBLISHED-TTL:P3D
REFRESH-INTERVAL:P3D
CALSCALE:GREGORIAN
BEGIN:VEVENT
DTSTART:20250924T163000Z
DTEND:20250924T183000Z
X-MICROSOFT-CDO-ALLDAYEVENT:FALSE
SUMMARY:Multi Chamber Women's Networking Luncheon
DESCRIPTION:Join the Glenview and Skokie Chambers for a multi-chamber women's networking luncheon! \n\n\n\nIgnite Your Spark: Creating a Business Life You Love Amidst the Chaos. \n\nThis presentation is for the female entrepreneur who knows the struggle of managing everything- growing a successful business\, preventing burnout\, and finding time to focus on herself. If you've been searching for clarity on who you are an what truly makes you happy\, and feeling like something is missing\, "Ignite Your Spark" is your guide. You'll walk away with inspiration and actionable steps to build a vision for a life you're excited to wake up to every day\, so that you can thrive\, not just survive!\n\n\n\nFeaturing speaker Erin Attere- Speaker\, Coach & Founder of I see You\, Mama.\n\n\n\nErin Attere is a (mostly) recovered perfectionist and people pleaser who left a successful corporate career to stop living a life on default and start living with greater purpose and joy. She helps bust\, high achieving women who feel like they've lost themselves in the daily grind to rediscover their spark and create a life they love- so they can feel joyful\, present\, and deeply connected to themselves and their families. You can find Erin speaking on stages\, leading soulful retreats\, or dancing with her husband and two brave and beautiful girls.
X-ALT-DESC;FMTTYPE=text/html:Join the Glenview and Skokie Chambers for a multi-chamber women&#39\;s networking luncheon!&nbsp\;<br />\n<br />\nIgnite Your Spark: Creating a Business Life You Love Amidst the Chaos.&nbsp\;<br />\nThis presentation is for the female entrepreneur who knows the struggle of managing everything- growing a successful business\, preventing burnout\, and finding time to focus on herself. If you&#39\;ve been searching for clarity on who you are an what truly makes you happy\, and feeling like something is missing\, &quot\;Ignite Your Spark&quot\; is your guide. You&#39\;ll walk away with inspiration and actionable steps to build a vision for a life you&#39\;re excited to wake up to every day\, so that you can thrive\, not just survive!<br />\n<br />\nFeaturing speaker Erin Attere- Speaker\, Coach &amp\; Founder of I see You\, Mama.<br />\n<br />\nErin Attere is a (mostly) recovered perfectionist and people pleaser who left a successful corporate career to stop living a life on default and start living with greater purpose and joy. She helps bust\, high achieving women who feel like they&#39\;ve lost themselves in the daily grind to rediscover their spark and create a life they love- so they can feel joyful\, present\, and deeply connected to themselves and their families. You can find Erin speaking on stages\, leading soulful retreats\, or dancing with her husband and two brave and beautiful girls.&nbsp\;
LOCATION:Sketchbook Brewing Company 4901 Main Street Skokie\, IL
UID:e.434.11286
SEQUENCE:3
DTSTAMP:20260420T073552Z
URL:http://business.glenviewchamber.com/events/details/multi-chamber-women-s-networking-luncheon-11286
END:VEVENT

END:VCALENDAR
