BEGIN:VCALENDAR
VERSION:2.0
PRODID:-//ChamberMaster//Event Calendar 2.0//EN
METHOD:PUBLISH
X-PUBLISHED-TTL:P3D
REFRESH-INTERVAL:P3D
CALSCALE:GREGORIAN
BEGIN:VEVENT
DTSTART:20251022T163000Z
DTEND:20251022T183000Z
X-MICROSOFT-CDO-ALLDAYEVENT:FALSE
SUMMARY:Multi-Chamber Women's Networking Luncheon
DESCRIPTION:October is Breast Cancer Awareness Month!\n\n\n\nWe will have a special guest speaker from City of Hope Cancer Center.\n\n\n\nWear pink to be entered into a raffle!\n\n\n\nNetworking with business leaders from Edgebrook Sauganash\, Glenview\, Lincolnwood\, Morton Grove\, Niles\, and Skokie.\n\n\n\nRegistration closes Tuesday\, October 21 at 10am.
X-ALT-DESC;FMTTYPE=text/html:October is Breast Cancer Awareness Month!<br />\n<br />\nWe will have a special guest speaker from City of Hope Cancer Center.<br />\n<br />\nWear pink to be entered into a raffle!<br />\n<br />\nNetworking with business leaders from Edgebrook Sauganash\, Glenview\, Lincolnwood\, Morton Grove\, Niles\, and Skokie.<br />\n<br />\nRegistration closes Tuesday\, October 21 at 10am.&nbsp\;
LOCATION:Sketchbook Brewing Company 4901 Main Street Skokie\, IL
UID:e.434.11525
SEQUENCE:3
DTSTAMP:20260420T060646Z
URL:http://business.glenviewchamber.com/events/details/multi-chamber-women-s-networking-luncheon-11525
END:VEVENT

END:VCALENDAR
