BEGIN:VCALENDAR
VERSION:2.0
PRODID:-//ChamberMaster//Event Calendar 2.0//EN
METHOD:PUBLISH
X-PUBLISHED-TTL:P3D
REFRESH-INTERVAL:P3D
CALSCALE:GREGORIAN
BEGIN:VEVENT
DTSTART:20170601T180000Z
DTEND:20170601T230000Z
X-MICROSOFT-CDO-ALLDAYEVENT:FALSE
SUMMARY:Munch\, Wine and Learn about Sculptra the only filler that helps produce your own collagen
DESCRIPTION:Sculptra Aesthetic is an FDA-approved injectable that helps gradually replace lost collagen   an underlying cause of facial aging   for results that can last more than two years.\n \n\n\nIt's used to correct shallow to deep facial wrinkles and folds.
X-ALT-DESC;FMTTYPE=text/html:<em>Sculptra Aesthetic</em><span style="background-color:rgb(238\, 239\, 239)\; font-family:lato\,sans-serif\; font-size:16px">&nbsp\;is an FDA-approved injectable that helps gradually replace lost collagen &mdash\; an underlying cause of facial aging &mdash\; for results that can last more than two years.</span>\n<div>&nbsp\;</div>\n\n<div>\n<h3><span style="font-size:18px"><strong><span style="background-color:#FFFF00">It&#39\;s used to correct shallow to deep facial wrinkles and folds.</span></strong></span></h3>\n</div>\n
LOCATION:281 Waukegan Rd 2nf Floor Teddie Kossof Salon Northfield\, IL 60062
UID:e.434.7130
SEQUENCE:3
DTSTAMP:20260426T042313Z
URL:http://business.glenviewchamber.com/events/details/munch-wine-and-learn-sculptra-the-only-filler-that-helps-produce-your-own-collagen-7130
END:VEVENT

END:VCALENDAR
