BEGIN:VCALENDAR
VERSION:2.0
PRODID:-//ChamberMaster//Event Calendar 2.0//EN
METHOD:PUBLISH
X-PUBLISHED-TTL:P3D
REFRESH-INTERVAL:P3D
CALSCALE:GREGORIAN
BEGIN:VEVENT
DTSTART:20250402T141500Z
DTEND:20250403T031500Z
X-MICROSOFT-CDO-ALLDAYEVENT:FALSE
SUMMARY:Navigating the Long Term Care Maze
DESCRIPTION:Elder Law Attorney\, Matt Margolis\, will teach strategies to help you navigate the maze of long-term care options. This discussion will cover costs and concerns as you plan for long term care.
X-ALT-DESC;FMTTYPE=text/html:Elder Law Attorney\, Matt Margolis\, will teach strategies to help you navigate the maze of long-term care options. This discussion will cover costs and concerns as you plan for long term care.
LOCATION:Virtual
UID:e.434.11184
SEQUENCE:3
DTSTAMP:20260420T110848Z
URL:http://business.glenviewchamber.com/events/details/navigating-the-long-term-care-maze-11184
END:VEVENT

END:VCALENDAR
