BEGIN:VCALENDAR
VERSION:2.0
PRODID:-//ChamberMaster//Event Calendar 2.0//EN
METHOD:PUBLISH
X-PUBLISHED-TTL:P3D
REFRESH-INTERVAL:P3D
CALSCALE:GREGORIAN
BEGIN:VEVENT
DTSTART:20190130T000000Z
DTEND:20190130T030000Z
X-MICROSOFT-CDO-ALLDAYEVENT:FALSE
SUMMARY:Networking with Author Tim Calkins
DESCRIPTION:Calkins discusses how to give your best presentation ever. Based on\n\nhis new book\, How to Wash a Chicken\, which is not about chickens\,\n\nbut humorously recalls his very first presentation involving an\n\nuncooperative chicken at a 4-H fair. As an award-winning professor\n\nand former advertising executive\, he understands the power of\n\ncompelling presentations and the difficulty in accomplishing them.\n\nFrom business updates\, to project recommendations\, to marketing\n\nplans\, Calkins has given more than 5\,000 presentations.\n\n\n\nSponsored by the Alliance for Lifelong Learning with generous support from the Oakton Educational Foundation.
X-ALT-DESC;FMTTYPE=text/html:Calkins discusses how to give your best presentation ever. Based on<br />\nhis new book\, How to Wash a Chicken\, which is not about chickens\,<br />\nbut humorously recalls his very first presentation involving an<br />\nuncooperative chicken at a 4-H fair. As an award-winning professor<br />\nand former advertising executive\, he understands the power of<br />\ncompelling presentations and the difficulty in accomplishing them.<br />\nFrom business updates\, to project recommendations\, to marketing<br />\nplans\, Calkins has given more than 5\,000 presentations.<br />\n<br />\nSponsored by the Alliance for Lifelong Learning with generous support from the Oakton Educational Foundation.
LOCATION:Oakton Community College Room P104\, Skokie Campus 7701 North Lincoln Avenue Skokie\, IL
UID:e.434.10067
SEQUENCE:3
DTSTAMP:20260425T034718Z
URL:http://business.glenviewchamber.com/events/details/networking-with-author-tim-calkins-10067
END:VEVENT

END:VCALENDAR
