BEGIN:VCALENDAR
VERSION:2.0
PRODID:-//ChamberMaster//Event Calendar 2.0//EN
METHOD:PUBLISH
X-PUBLISHED-TTL:P3D
REFRESH-INTERVAL:P3D
CALSCALE:GREGORIAN
BEGIN:VEVENT
DTSTART:20260307T201500Z
DTEND:20260307T213000Z
X-MICROSOFT-CDO-ALLDAYEVENT:FALSE
SUMMARY:Neurographic Art
DESCRIPTION:Neurographic Art uses simple lines and colors to reduce stress\, calm the mind\, and inspire creativity.
X-ALT-DESC;FMTTYPE=text/html:Neurographic Art uses simple lines and colors to reduce stress\, calm the mind\, and inspire creativity.
LOCATION:North Suburban YMCA\, 2705 Techny Rd\, Northbrook\, IL 60062
UID:e.434.11704
SEQUENCE:3
DTSTAMP:20260421T083046Z
URL:http://business.glenviewchamber.com/events/details/neurographic-art-03-07-2026-11704
END:VEVENT

END:VCALENDAR
