BEGIN:VCALENDAR
VERSION:2.0
PRODID:-//ChamberMaster//Event Calendar 2.0//EN
METHOD:PUBLISH
X-PUBLISHED-TTL:P3D
REFRESH-INTERVAL:P3D
CALSCALE:GREGORIAN
BEGIN:VEVENT
DTSTART:20180620T170000Z
DTEND:20180620T183000Z
X-MICROSOFT-CDO-ALLDAYEVENT:FALSE
SUMMARY:New Member Mingle
DESCRIPTION:New Member Mingle\n\nJoin us for lunch as we will review how to use the Chamber to market your business   reviewing our event and networking opportunities.  Chamber Ambassadors\, Board Members and staff will be on hand to address any questions you may have. We want to insure our newest members know how to take advantage of all their Chamber membership has to offer!
X-ALT-DESC;FMTTYPE=text/html:<span style="font-size:14px\;"><span style="font-family:times new roman\;">New Member Mingle<br />\nJoin us for lunch as we will review how to use the Chamber to market your business &ndash\; reviewing our event and networking opportunities.&nbsp\; Chamber Ambassadors\, Board Members and staff will be on hand to address any questions you may have. We want to insure our newest members know how to take advantage of all their Chamber membership has to offer!</span></span><br />\n&nbsp\;
LOCATION:Emerald Place 1879 Chestnut Avenue Glenview\, IL
UID:e.434.8709
SEQUENCE:3
DTSTAMP:20260425T124707Z
URL:http://business.glenviewchamber.com/events/details/new-member-mingle-8709
END:VEVENT

END:VCALENDAR
