BEGIN:VCALENDAR
VERSION:2.0
PRODID:-//ChamberMaster//Event Calendar 2.0//EN
METHOD:PUBLISH
X-PUBLISHED-TTL:P3D
REFRESH-INTERVAL:P3D
CALSCALE:GREGORIAN
BEGIN:VEVENT
DTSTART:20191002T230000Z
DTEND:20191003T003000Z
X-MICROSOFT-CDO-ALLDAYEVENT:FALSE
SUMMARY:"No Small Matter" Video Viewing
DESCRIPTION:Join us for a video viewing on "No Small Matter" which explores the importance of early childhood education.\n\n\n\nOur future depends on our youngest citizens. On how many words they hear in their first months of life. On how often they are held.On the kinds of  experiences they have. So why\, when the importance of quality early care and education is so widely accepted\, do we continue to fail so many? Find out at this viewing of "No Small Matter" by Kindling Group and Siskel/Jacobs Productions. \n\n\n\nThis event is sponsored by: College Nannies\, Sitters and Tutors\, The Laughing Academy\, Fonseca Martial Arts\, Momentum Performing Arts\, Gertrude B. Nielsen Childcare and Learning Center\, Glenview Park District\, Kohl Children's Museum of Greater Chicago\, Inspire Counseling Center\, Glenview Methodist Preschool\, Glenview Public Library and Wesley Child Care Center.
X-ALT-DESC;FMTTYPE=text/html:Join us for a video viewing on &quot\;No Small Matter&quot\; which explores the importance of early childhood education.<br />\n<br />\nOur future depends on our youngest citizens. On how many words they hear in their first months of life. On how often they are held.On the kinds of&nbsp\; experiences they have. So why\, when the importance of quality early care and education is so widely accepted\, do we continue to fail so many? Find out at this viewing of &quot\;No Small Matter&quot\; by Kindling Group and Siskel/Jacobs Productions.&nbsp\;<br />\n<br />\n<em>This event is sponsored by: College Nannies\, Sitters and Tutors\, The Laughing Academy\, Fonseca Martial Arts\, Momentum Performing Arts\, Gertrude B. Nielsen Childcare and Learning Center\, Glenview Park District\, Kohl Children&#39\;s Museum of Greater Chicago\, Inspire Counseling Center\, Glenview Methodist Preschool\, Glenview Public Library and Wesley Child Care Center.&nbsp\;&nbsp\;</em>
LOCATION:Glenview Public Library 1930 Glenview Road Glenview\, IL Community Room
UID:e.434.10243
SEQUENCE:3
DTSTAMP:20260424T163043Z
URL:http://business.glenviewchamber.com/events/details/no-small-matter-video-viewing-10243
END:VEVENT

END:VCALENDAR
