BEGIN:VCALENDAR
VERSION:2.0
PRODID:-//ChamberMaster//Event Calendar 2.0//EN
METHOD:PUBLISH
X-PUBLISHED-TTL:P3D
REFRESH-INTERVAL:P3D
CALSCALE:GREGORIAN
BEGIN:VEVENT
DTSTART:20170929T220000Z
DTEND:20170930T010000Z
X-MICROSOFT-CDO-ALLDAYEVENT:FALSE
SUMMARY:North Shore Studio Sale
DESCRIPTION:The North Shore Studio Sale features original artwork priced as low as $10 each!  This end-of-season sale features hundreds of works of art in a variety of sizes\, styles and mediums hand made by members of The Arts of Life collective. House band\, VanGoGo\, will take the stage at 6:30 for a live performance. A frame give-away will also take place at the event. (Sorry\, framing service is not provided.)  Artwork and frames are available on a first-come-first-serve basis so arrive early for the best selection! This all ages event is free to attend and open to the public.
X-ALT-DESC;FMTTYPE=text/html:<span style="color:#646567"><span style="font-family:arial">The North Shore Studio Sale features o</span></span><span style="color:#646567"><span style="font-family:arial">riginal artwork priced as low as $10 each!&nbsp\; This end-of-season sale features hundreds of works of art in a variety of sizes\, styles and mediums hand made by members of The Arts of Life collective. House band\, VanGoGo\, will take the stage at 6:30 for a live performance. A frame give-away will also take place at the event. (Sorry\, framing service is not provided.) &nbsp\;</span></span><span style="color:#646567"><span style="font-family:arial">Artwork and frames are available on a first-come-first-serve basis so arrive early for the best selection! This all ages event is free to attend and open to the public.</span></span><br />\n<br />\n<br />\n&nbsp\;
LOCATION:The Arts of Life North Shore studio 1963 Johns Drive\, Glenview
UID:e.434.7308
SEQUENCE:3
DTSTAMP:20260426T001512Z
URL:http://business.glenviewchamber.com/events/details/north-shore-studio-sale-7308
END:VEVENT

END:VCALENDAR
