BEGIN:VCALENDAR
VERSION:2.0
PRODID:-//ChamberMaster//Event Calendar 2.0//EN
METHOD:PUBLISH
X-PUBLISHED-TTL:P3D
REFRESH-INTERVAL:P3D
CALSCALE:GREGORIAN
BEGIN:VEVENT
DTSTART:20180825T193000Z
DTEND:20180826T023000Z
X-MICROSOFT-CDO-ALLDAYEVENT:FALSE
SUMMARY:North Suburban YMCA's 50 Fest
DESCRIPTION:The North Suburban YMCA is celebrating our 50th\n\nAnniversary and hosting the biggest party in town!\n\nMusic\, Beer\, Wine\, Food\, Bingo\, DJ\, Art Court\n\nand more. We are seeking vendors who\n\nwant to sell merchandise\, promote a service or\n\njust market their business!\n\n3 band line up Including Northside\, SaySoSix and\n\nfeaturing lead singer of South Of 80
X-ALT-DESC;FMTTYPE=text/html:<p>The North Suburban YMCA is celebrating our 50th<br />\nAnniversary and hosting the biggest party in town!</p>\n\n<p>Music\, Beer\, Wine\, Food\, Bingo\, DJ\, Art Court<br />\nand more. We are seeking vendors who<br />\nwant to sell merchandise\, promote a service or<br />\njust market their business!<br />\n3 band line up Including Northside\, SaySoSix and<br />\nfeaturing lead singer of South Of 80</p>\n
LOCATION:2705 Techny Rd. Northbrook\, IL 60062 847-272-7250 www.nsymca.org
UID:e.434.9823
SEQUENCE:3
DTSTAMP:20260425T112424Z
URL:http://business.glenviewchamber.com/events/details/north-suburban-ymca-s-50-fest-9823
END:VEVENT

END:VCALENDAR
