BEGIN:VCALENDAR
VERSION:2.0
PRODID:-//ChamberMaster//Event Calendar 2.0//EN
METHOD:PUBLISH
X-PUBLISHED-TTL:P3D
REFRESH-INTERVAL:P3D
CALSCALE:GREGORIAN
BEGIN:VEVENT
DTSTART:20251114T000000Z
DTEND:20251114T020000Z
X-MICROSOFT-CDO-ALLDAYEVENT:FALSE
SUMMARY:Northbrook Symphony Cocktail Evening
DESCRIPTION:The Northbrook Symphony enters a new era\, investing in our players and expanding our presence as one of Chicagoland's great orchestras. Join us for a cocktail evening called "Prelude to Possibilities". Music Director Mina Zikri will be in attendance and you can meet Robbie Ellis\, the NSO's new General Manager and the night's entertainment.\n\n\n\nHors d'oeuvres and drinks included. Business casual attire. Silent auction and raffle.\n\n\n\nTickets:\n\nhttps://northbrooksymphonyorchestra.thundertix.com/events/254534
X-ALT-DESC;FMTTYPE=text/html:<p>The Northbrook Symphony enters a new era\, investing in our players and expanding our presence as one of Chicagoland&#39\;s great orchestras. Join us for a cocktail evening called &quot\;Prelude to Possibilities&quot\;. Music Director <strong>Mina Zikri</strong> will be in attendance and you can meet <strong>Robbie Ellis</strong>\, the NSO&#39\;s new General Manager and the night&#39\;s entertainment.<br />\n<br />\nHors d&#39\;oeuvres and drinks included. Business casual attire. Silent auction and raffle.<br />\n<br />\nTickets:<br />\nhttps://northbrooksymphonyorchestra.thundertix.com/events/254534</p>\n
LOCATION:Sunset Ridge Country Club 2100 Sunset Ridge Rd. Northfield
UID:e.434.11524
SEQUENCE:3
DTSTAMP:20260422T175534Z
URL:http://business.glenviewchamber.com/events/details/northbrook-symphony-cocktail-evening-11524
END:VEVENT

END:VCALENDAR
