BEGIN:VCALENDAR
VERSION:2.0
PRODID:-//ChamberMaster//Event Calendar 2.0//EN
METHOD:PUBLISH
X-PUBLISHED-TTL:P3D
REFRESH-INTERVAL:P3D
CALSCALE:GREGORIAN
BEGIN:VEVENT
DTSTART:20180503T223000Z
DTEND:20180504T020000Z
X-MICROSOFT-CDO-ALLDAYEVENT:FALSE
SUMMARY:Northwest CASA Presents Casino Night 2018
DESCRIPTION:Join us in celebrating 40 years of helping survivors find hope & healing!\n\nNorthwest CASA presents\n\nCasino Night 2018\n\nWhat's included:\n\n\n	Casino Games w/ Raffle Prizes\n	3 Wine Options\n	Hors D'oeuvres    \n	Dessert\n	Silent Auction\n	Unlimited Fun!
X-ALT-DESC;FMTTYPE=text/html:<p>Join us in celebrating 40 years of helping survivors find hope &amp\; healing!<br />\nNorthwest CASA presents<br />\nCasino Night 2018</p>\n\n<p>What&#39\;s included:</p>\n\n<ul>\n	<li>Casino Games w/ Raffle Prizes</li>\n	<li>3 Wine Options</li>\n	<li>Hors D&#39\;oeuvres&nbsp\;&nbsp\;&nbsp\;&nbsp\;</li>\n	<li>Dessert</li>\n	<li>Silent Auction</li>\n	<li>Unlimited Fun!</li>\n</ul>\n
LOCATION:Cooper's Hawk Winery & Restaurant Arlington Heights
UID:e.434.8741
SEQUENCE:3
DTSTAMP:20260425T135835Z
URL:http://business.glenviewchamber.com/events/details/northwest-casa-presents-casino-night-2018-8741
END:VEVENT

END:VCALENDAR
