BEGIN:VCALENDAR
VERSION:2.0
PRODID:-//ChamberMaster//Event Calendar 2.0//EN
METHOD:PUBLISH
X-PUBLISHED-TTL:P3D
REFRESH-INTERVAL:P3D
CALSCALE:GREGORIAN
BEGIN:VEVENT
DTSTART:20170628T130000Z
DTEND:20170628T140000Z
X-MICROSOFT-CDO-ALLDAYEVENT:FALSE
SUMMARY:Not For Profit Group Meeting
DESCRIPTION:Not for Profit Group Meeting
X-ALT-DESC;FMTTYPE=text/html:<span style="font-size:14px\;"><strong>Not for Profit Group Meeting</strong></span><br />\n&nbsp\;
LOCATION:Kohl Children's Museum Conference Room 2100 Patriot Blvd Glenview IL 60026
UID:e.434.7002
SEQUENCE:3
DTSTAMP:20260426T043115Z
URL:http://business.glenviewchamber.com/events/details/not-for-profit-group-meeting-7002
END:VEVENT

END:VCALENDAR
