BEGIN:VCALENDAR
VERSION:2.0
PRODID:-//ChamberMaster//Event Calendar 2.0//EN
METHOD:PUBLISH
X-PUBLISHED-TTL:P3D
REFRESH-INTERVAL:P3D
CALSCALE:GREGORIAN
BEGIN:VEVENT
DTSTART:20171025T130000Z
DTEND:20171025T140000Z
X-MICROSOFT-CDO-ALLDAYEVENT:FALSE
SUMMARY:CANCELLED Not For Profit Group Meeting
DESCRIPTION:Topic: Donor/Member Retention. Our speakers will be Michael Herman\, Vice President Development and Dave Judy\, Sr. Director Marketing both of Kohl Museum of Greater Chicago.
X-ALT-DESC;FMTTYPE=text/html:Topic: Donor/Member Retention.&nbsp\;Our speakers will be <span style="color:#323E4F\;">Michael Herman\, Vice President Development and Dave Judy\, Sr. Director Marketing both of Kohl Museum of Greater Chicago.&nbsp\;</span>
LOCATION:Kohl Museum of Greater Chicago 2100 Patriot Blvd. Glenview
UID:e.434.7313
SEQUENCE:3
DTSTAMP:20260426T001643Z
URL:http://business.glenviewchamber.com/events/details/not-for-profit-group-meeting-7313
END:VEVENT

END:VCALENDAR
