BEGIN:VCALENDAR
VERSION:2.0
PRODID:-//ChamberMaster//Event Calendar 2.0//EN
METHOD:PUBLISH
X-PUBLISHED-TTL:P3D
REFRESH-INTERVAL:P3D
CALSCALE:GREGORIAN
BEGIN:VEVENT
DTSTART:20180328T130000Z
DTEND:20180328T140000Z
X-MICROSOFT-CDO-ALLDAYEVENT:FALSE
SUMMARY:Not For Profit Meeting ***PLEASE NOTE NEW LOCATION
DESCRIPTION:***PLEASE NOTE NEW LOCATION\n\nNot For Profit Meeting\n\nSPEAKER:  James Provenza\, JD\, CPA\n\n                    Provenza Law & Associates\, P.C.\n\nTAKE AWAYS:\n\n \n1. We will talk about changes to individual tax provisions \n\n2. We will discuss provisions that will affect NFPs in fundraising and operations.\n\n3. Finally\, we will discuss how to respond to the changes and their possibly impact.
X-ALT-DESC;FMTTYPE=text/html:<strong>***PLEASE NOTE NEW LOCATION</strong><br />\nNot For Profit Meeting<br />\nSPEAKER:&nbsp\; James Provenza\, JD\, CPA<br />\n&nbsp\;&nbsp\;&nbsp\;&nbsp\;&nbsp\;&nbsp\;&nbsp\;&nbsp\;&nbsp\;&nbsp\;&nbsp\;&nbsp\;&nbsp\;&nbsp\;&nbsp\;&nbsp\;&nbsp\;&nbsp\;&nbsp\;&nbsp\;Provenza Law &amp\; Associates\, P.C.<br />\nTAKE AWAYS:<br />\n&nbsp\;\n<div>1.<span style="white-space:pre"> </span>We will talk about changes to individual tax provisions&nbsp\;</div>\n\n<div>2.<span style="white-space:pre"> </span>We will discuss provisions that will affect NFPs in fundraising and operations.</div>\n\n<div>3.<span style="white-space:pre"> </span>Finally\, we will discuss how to respond to the changes and their possibly impact.&nbsp\;</div>\n<br />\n&nbsp\;
LOCATION:***PLEASE NOTE NEW LOCATION GLENVIEW GRIND 1837 GLENVIEW RD
UID:e.434.8738
SEQUENCE:3
DTSTAMP:20260425T163536Z
URL:http://business.glenviewchamber.com/events/details/not-for-profit-meeting-please-note-new-location-8738
END:VEVENT

END:VCALENDAR
