BEGIN:VCALENDAR
VERSION:2.0
PRODID:-//ChamberMaster//Event Calendar 2.0//EN
METHOD:PUBLISH
X-PUBLISHED-TTL:P3D
REFRESH-INTERVAL:P3D
CALSCALE:GREGORIAN
BEGIN:VEVENT
DTSTART:20260506T143000Z
DTEND:20260506T160000Z
X-MICROSOFT-CDO-ALLDAYEVENT:FALSE
SUMMARY:NSSC: Planning for Peace of Mind: Funeral Pre-planning Seminar
DESCRIPTION:Participants will:\n\n-Learn about what is involved in pre-planning and what steps to take\n\n-Know what questions to be asking in pre-planning after death\n\n-Understand options for pre-planning and costs involved
X-ALT-DESC;FMTTYPE=text/html:Participants will:<br />\n-Learn about what is involved in pre-planning and what steps to take<br />\n-Know what questions to be asking in pre-planning after death<br />\n-Understand options for pre-planning and costs involved
LOCATION:NSSC's Golder Dining Room
UID:e.434.11728
SEQUENCE:3
DTSTAMP:20260421T083156Z
URL:http://business.glenviewchamber.com/events/details/nssc-planning-for-peace-of-mind-funeral-pre-planning-seminar-11728
END:VEVENT

END:VCALENDAR
