BEGIN:VCALENDAR
VERSION:2.0
PRODID:-//ChamberMaster//Event Calendar 2.0//EN
METHOD:PUBLISH
X-PUBLISHED-TTL:P3D
REFRESH-INTERVAL:P3D
CALSCALE:GREGORIAN
BEGIN:VEVENT
DTSTART;VALUE=DATE:20180525
DTEND;VALUE=DATE:20180526
TRANSP:TRANSPARENT
X-MICROSOFT-CDO-ALLDAYEVENT:TRUE
SUMMARY:Oakton STEAM Youth Programs for Summer - Early Bird Registration
DESCRIPTION:More than just fun and games\, our programs provide engaging and unique learning opportunities on a college campus. Students ages 8 to 12 can give their science\, technology\, engineering\, art\, and math skills a workout with a range of fun-filled camps and classes throughout the year. Don't miss out on these diverse\, academic youth programs.\n\nRegister now! Early Bird (EB) registration is due by May 25\, 2018.\n\n\n\nhttp://www.oakton.edu/conted/find_classes/youth/YouthSTEAMSum18Web.pdf
X-ALT-DESC;FMTTYPE=text/html:<span style="letter-spacing:-.1pt\;"><span style="font-size:12.5pt\;">More</span></span> than <span style="letter-spacing:-.1pt\;">just</span> fun and <span style="letter-spacing:-.05pt\;">g</span><span style="letter-spacing:-.1pt\;">ames\,</span> our <span style="letter-spacing:-.1pt\;">pro</span><span style="letter-spacing:-.15pt\;">grams</span> <span style="letter-spacing:-.05pt\;">provide</span> <span style="letter-spacing:-.05pt\;">eng</span><span style="letter-spacing:-.1pt\;">agin</span><span style="letter-spacing:-.05pt\;">g</span> and unique <span style="letter-spacing:-.1pt\;">learnin</span><span style="letter-spacing:-.05pt\;">g</span> <span style="font-size:12.5pt\;">opportunities on a <span style="letter-spacing:-.1pt\;">co</span><span style="letter-spacing:-.15pt\;">ll</span><span style="letter-spacing:-.1pt\;">e</span><span style="letter-spacing:-.15pt\;">g</span><span style="letter-spacing:-.1pt\;">e</span> <span style="letter-spacing:-.05pt\;">c</span><span style="letter-spacing:-.1pt\;">am</span><span style="letter-spacing:-.05pt\;">pus</span><span style="letter-spacing:-.1pt\;">.</span> <span style="letter-spacing:-.1pt\;">S</span><span style="letter-spacing:-.15pt\;">t</span><span style="letter-spacing:-.1pt\;">uden</span><span style="letter-spacing:-.15pt\;">t</span><span style="letter-spacing:-.1pt\;">s</span> <span style="letter-spacing:-.15pt\;">ag</span><span style="letter-spacing:-.1pt\;">es</span> 8 <span style="letter-spacing:-.1pt\;">t</span><span style="letter-spacing:-.05pt\;">o</span> <span style="letter-spacing:-.1pt\;">12</span> <span style="letter-spacing:-.05pt\;">c</span><span style="letter-spacing:-.1pt\;">a</span><span style="letter-spacing:-.05pt\;">n</span> <span style="letter-spacing:-.15pt\;">gi</span><span style="letter-spacing:-.1pt\;">ve</span> <span style="letter-spacing:-.1pt\;">t</span><span style="letter-spacing:-.05pt\;">he</span><span style="letter-spacing:-.1pt\;">ir</span> <strong>s</strong></span><strong><span style="letter-spacing:-.15pt\;"><span style="color:#231F20\;"><span style="font-family:cambria\,serif\;"><span style="font-size:12.5pt\;">c</span></span></span></span></strong><strong><span style="letter-spacing:-.2pt\;"><span style="color:#231F20\;"><span style="font-family:cambria\,serif\;"><span style="font-size:12.5pt\;">i</span></span></span></span></strong><strong><span style="letter-spacing:-.15pt\;"><span style="color:#231F20\;"><span style="font-family:cambria\,serif\;"><span style="font-size:12.5pt\;">e</span></span></span></span></strong><strong><span style="letter-spacing:-.2pt\;"><span style="color:#231F20\;"><span style="font-family:cambria\,serif\;"><span style="font-size:12.5pt\;">n</span></span></span></span></strong><strong><span style="letter-spacing:-.15pt\;"><span style="color:#231F20\;"><span style="font-family:cambria\,serif\;"><span style="font-size:12.5pt\;">ce</span></span></span></span></strong><strong><span style="letter-spacing:-.2pt\;"><span style="color:#231F20\;"><span style="font-family:cambria\,serif\;"><span style="font-size:12.5pt\;">\,</span></span></span></span></strong> <strong><span style="letter-spacing:-.25pt\;"><span style="color:#231F20\;"><span style="font-family:cambria\,serif\;"><span style="font-size:12.5pt\;">tec</span></span></span></span></strong><strong><span style="letter-spacing:-.3pt\;"><span style="color:#231F20\;"><span style="font-family:cambria\,serif\;"><span style="font-size:12.5pt\;">hno</span></span></span></span></strong><strong><span style="letter-spacing:-.35pt\;"><span style="color:#231F20\;"><span style="font-family:cambria\,serif\;"><span style="font-size:12.5pt\;">l</span></span></span></span></strong><strong><span style="letter-spacing:-.3pt\;"><span style="color:#231F20\;"><span style="font-family:cambria\,serif\;"><span style="font-size:12.5pt\;">ogy\,</span></span></span></span></strong> <strong><span style="letter-spacing:-.15pt\;"><span style="color:#231F20\;"><span style="font-family:cambria\,serif\;"><span style="font-size:12.5pt\;">e</span></span></span></span></strong><strong><span style="letter-spacing:-.2pt\;"><span style="color:#231F20\;"><span style="font-family:cambria\,serif\;"><span style="font-size:12.5pt\;">ngin</span></span></span></span></strong><strong><span style="letter-spacing:-.15pt\;"><span style="color:#231F20\;"><span style="font-family:cambria\,serif\;"><span style="font-size:12.5pt\;">ee</span></span></span></span></strong><strong><span style="letter-spacing:-.2pt\;"><span style="color:#231F20\;"><span style="font-family:cambria\,serif\;"><span style="font-size:12.5pt\;">ring\,</span></span></span></span></strong> <strong><span style="letter-spacing:-.15pt\;"><span style="color:#231F20\;"><span style="font-family:cambria\,serif\;"><span style="font-size:12.5pt\;">art\,</span></span></span></span></strong> <strong><span style="letter-spacing:-.15pt\;"><span style="color:#231F20\;"><span style="font-family:cambria\,serif\;"><span style="font-size:12.5pt\;">and</span></span></span></span></strong> <strong><span style="letter-spacing:-.2pt\;"><span style="color:#231F20\;"><span style="font-family:cambria\,serif\;"><span style="font-size:12.5pt\;">ma</span></span></span></span></strong><strong><span style="letter-spacing:-.15pt\;"><span style="color:#231F20\;"><span style="font-family:cambria\,serif\;"><span style="font-size:12.5pt\;">t</span></span></span></span></strong><strong><span style="letter-spacing:-.2pt\;"><span style="color:#231F20\;"><span style="font-family:cambria\,serif\;"><span style="font-size:12.5pt\;">h</span></span></span></span></strong> <span style="font-size:12.5pt\;">skills a <span style="letter-spacing:-.15pt\;">w</span><span style="letter-spacing:-.1pt\;">ork</span><span style="letter-spacing:-.15pt\;">out</span> with a <span style="letter-spacing:-.15pt\;">rang</span><span style="letter-spacing:-.1pt\;">e</span> <span style="letter-spacing:-.1pt\;">o</span><span style="letter-spacing:-.15pt\;">f</span> fun-filled <span style="letter-spacing:-.05pt\;">camps</span> and classes<span style="letter-spacing:1.75pt\;"> thr</span><span style="letter-spacing:-.05pt\;">oughout</span><span style="letter-spacing:-1.75pt\;"> the <span style="letter-spacing:-.35pt\;">year</span><span style="letter-spacing:-.55pt\;">.</span> <span style="letter-spacing:-.15pt\;">Don</span><span style="letter-spacing:-.3pt\;">&rsquo\;</span><span style="letter-spacing:-.2pt\;">t</span> miss out on these <span style="letter-spacing:-.15pt\;">diver</span><span style="letter-spacing:-.1pt\;">se</span><span style="letter-spacing:-.2pt\;">\,</span> academic <span style="letter-spacing:-.05pt\;">youth</span> <span style="letter-spacing:-.05pt\;">prog</span><span style="letter-spacing:-.1pt\;">rams.</span></span></span><br />\n<strong><span style="letter-spacing:-.25pt\;"><span style="color:red\;"><span style="font-family:calibri\,sans-serif\;"><span style="font-size:12.5pt\;">Re</span></span></span></span></strong><strong><span style="letter-spacing:-.3pt\;"><span style="color:red\;"><span style="font-family:calibri\,sans-serif\;"><span style="font-size:12.5pt\;">gi</span></span></span></span></strong><strong><span style="letter-spacing:-.25pt\;"><span style="color:red\;"><span style="font-family:calibri\,sans-serif\;"><span style="font-size:12.5pt\;">ster</span></span></span></span></strong> <strong><span style="letter-spacing:-.25pt\;"><span style="color:red\;"><span style="font-family:calibri\,sans-serif\;"><span style="font-size:12.5pt\;">now!</span></span></span></span></strong> <strong><span style="letter-spacing:-.15pt\;"><span style="color:#231F20\;"><span style="font-family:calibri\,sans-serif\;"><span style="font-size:12.5pt\;">E</span></span></span></span></strong><strong><span style="letter-spacing:-.2pt\;"><span style="color:#231F20\;"><span style="font-family:calibri\,sans-serif\;"><span style="font-size:12.5pt\;">a</span></span></span></span></strong><strong><span style="letter-spacing:-.15pt\;"><span style="color:#231F20\;"><span style="font-family:calibri\,sans-serif\;"><span style="font-size:12.5pt\;">r</span></span></span></span></strong><strong><span style="letter-spacing:-.2pt\;"><span style="color:#231F20\;"><span style="font-family:calibri\,sans-serif\;"><span style="font-size:12.5pt\;">ly</span></span></span></span></strong> <strong><span style="letter-spacing:-.2pt\;"><span style="color:#231F20\;"><span style="font-family:calibri\,sans-serif\;"><span style="font-size:12.5pt\;">B</span></span></span></span></strong><strong><span style="letter-spacing:-.25pt\;"><span style="color:#231F20\;"><span style="font-family:calibri\,sans-serif\;"><span style="font-size:12.5pt\;">i</span></span></span></span></strong><strong><span style="letter-spacing:-.2pt\;"><span style="color:#231F20\;"><span style="font-family:calibri\,sans-serif\;"><span style="font-size:12.5pt\;">r</span></span></span></span></strong><strong><span style="letter-spacing:-.25pt\;"><span style="color:#231F20\;"><span style="font-family:calibri\,sans-serif\;"><span style="font-size:12.5pt\;">d</span></span></span></span></strong> <strong><span style="letter-spacing:-.2pt\;"><span style="color:#231F20\;"><span style="font-family:calibri\,sans-serif\;"><span style="font-size:12.5pt\;">(</span></span></span></span></strong><strong><span style="letter-spacing:-.15pt\;"><span style="color:#231F20\;"><span style="font-family:calibri\,sans-serif\;"><span style="font-size:12.5pt\;">EB</span></span></span></span></strong><strong><span style="letter-spacing:-.2pt\;"><span style="color:#231F20\;"><span style="font-family:calibri\,sans-serif\;"><span style="font-size:12.5pt\;">)</span></span></span></span></strong> <strong><span style="letter-spacing:-.25pt\;"><span style="color:#231F20\;"><span style="font-family:calibri\,sans-serif\;"><span style="font-size:12.5pt\;">re</span></span></span></span></strong><strong><span style="letter-spacing:-.3pt\;"><span style="color:#231F20\;"><span style="font-family:calibri\,sans-serif\;"><span style="font-size:12.5pt\;">gi</span></span></span></span></strong><strong><span style="letter-spacing:-.25pt\;"><span style="color:#231F20\;"><span style="font-family:calibri\,sans-serif\;"><span style="font-size:12.5pt\;">str</span></span></span></span></strong><strong><span style="letter-spacing:-.3pt\;"><span style="color:#231F20\;"><span style="font-family:calibri\,sans-serif\;"><span style="font-size:12.5pt\;">a</span></span></span></span></strong><strong><span style="letter-spacing:-.25pt\;"><span style="color:#231F20\;"><span style="font-family:calibri\,sans-serif\;"><span style="font-size:12.5pt\;">t</span></span></span></span></strong><strong><span style="letter-spacing:-.3pt\;"><span style="color:#231F20\;"><span style="font-family:calibri\,sans-serif\;"><span style="font-size:12.5pt\;">ion</span></span></span></span></strong> <strong><span style="letter-spacing:-.15pt\;"><span style="color:#231F20\;"><span style="font-family:calibri\,sans-serif\;"><span style="font-size:12.5pt\;">i</span></span></span></span></strong><strong><span style="letter-spacing:-.1pt\;"><span style="color:#231F20\;"><span style="font-family:calibri\,sans-serif\;"><span style="font-size:12.5pt\;">s</span></span></span></span></strong> <strong><span style="letter-spacing:-.15pt\;"><span style="color:#231F20\;"><span style="font-family:calibri\,sans-serif\;"><span style="font-size:12.5pt\;">du</span></span></span></span></strong><strong><span style="letter-spacing:-.1pt\;"><span style="color:#231F20\;"><span style="font-family:calibri\,sans-serif\;"><span style="font-size:12.5pt\;">e</span></span></span></span></strong> <strong><span style="letter-spacing:-.25pt\;"><span style="color:#231F20\;"><span style="font-family:calibri\,sans-serif\;"><span style="font-size:12.5pt\;">by</span></span></span></span></strong> <strong><span style="letter-spacing:-.25pt\;"><span style="color:#231F20\;"><span style="font-family:calibri\,sans-serif\;"><span style="font-size:12.5pt\;">May</span></span></span></span></strong> <strong><span style="letter-spacing:-.15pt\;"><span style="color:#231F20\;"><span style="font-family:calibri\,sans-serif\;"><span style="font-size:12.5pt\;">25\,</span></span></span></span></strong> <strong><span style="letter-spacing:-.2pt\;"><span style="color:#231F20\;"><span style="font-family:calibri\,sans-serif\;"><span style="font-size:12.5pt\;">2018</span></span></span></span></strong><strong><span style="letter-spacing:-.25pt\;"><span style="color:#231F20\;"><span style="font-family:calibri\,sans-serif\;"><span style="font-size:12.5pt\;">.</span></span></span></span></strong><br />\n<br />\n<span style="color:black\;"><span style="font-family:tw cen mt\,sans-serif\;"><span style="font-size:12.0pt\;"><a href="http://www.oakton.edu/conted/find_classes/youth/YouthSTEAMSum18Web.pdf">http://www.oakton.edu/conted/find_classes/youth/YouthSTEAMSum18Web.pdf</a></span></span></span>
LOCATION:Oakton Community College 7701 N. Lincoln Avenue Skokie\, IL 60077
UID:e.434.9788
SEQUENCE:3
DTSTAMP:20260425T135734Z
URL:http://business.glenviewchamber.com/events/details/oakton-steam-youth-programs-for-summer-early-bird-registration-9788
END:VEVENT

END:VCALENDAR
