BEGIN:VCALENDAR
VERSION:2.0
PRODID:-//ChamberMaster//Event Calendar 2.0//EN
METHOD:PUBLISH
X-PUBLISHED-TTL:P3D
REFRESH-INTERVAL:P3D
CALSCALE:GREGORIAN
BEGIN:VEVENT
DTSTART;VALUE=DATE:20191014
DTEND;VALUE=DATE:20191015
TRANSP:TRANSPARENT
X-MICROSOFT-CDO-ALLDAYEVENT:TRUE
SUMMARY:OFFICE CLOSED
DESCRIPTION:OFFICE CLOSED FOR COLUMBUS DAY
X-ALT-DESC;FMTTYPE=text/html:OFFICE CLOSED FOR COLUMBUS DAY
LOCATION:
UID:e.434.10231
SEQUENCE:3
DTSTAMP:20260424T163552Z
URL:http://business.glenviewchamber.com/events/details/office-closed-10231
END:VEVENT

END:VCALENDAR
