BEGIN:VCALENDAR
VERSION:2.0
PRODID:-//ChamberMaster//Event Calendar 2.0//EN
METHOD:PUBLISH
X-PUBLISHED-TTL:P3D
REFRESH-INTERVAL:P3D
CALSCALE:GREGORIAN
BEGIN:VEVENT
DTSTART:20180519T140000Z
DTEND:20180519T170000Z
X-MICROSOFT-CDO-ALLDAYEVENT:FALSE
SUMMARY:OLPH Deals on Wheels
DESCRIPTION:OLPH Deals on Wheels
X-ALT-DESC;FMTTYPE=text/html:OLPH Deals on Wheels
LOCATION:OLPH Church Parking Lot 1775 Grove Street Glenview\, IL
UID:e.434.8729
SEQUENCE:3
DTSTAMP:20260425T135627Z
URL:http://business.glenviewchamber.com/events/details/olph-deals-on-wheels-8729
END:VEVENT

END:VCALENDAR
