BEGIN:VCALENDAR
VERSION:2.0
PRODID:-//ChamberMaster//Event Calendar 2.0//EN
METHOD:PUBLISH
X-PUBLISHED-TTL:P3D
REFRESH-INTERVAL:P3D
CALSCALE:GREGORIAN
BEGIN:VEVENT
DTSTART:20180202T233000Z
DTEND:20180203T020000Z
X-MICROSOFT-CDO-ALLDAYEVENT:FALSE
SUMMARY:OLPH Family Bingo Night
DESCRIPTION:OLPH Family Bingo Night
X-ALT-DESC;FMTTYPE=text/html:OLPH Family Bingo Night<br />\n&nbsp\;
LOCATION:OLPH Playdium 1776 Glenview Road Glenview\, IL
UID:e.434.8700
SEQUENCE:3
DTSTAMP:20260425T175720Z
URL:http://business.glenviewchamber.com/events/details/olph-family-bingo-night-8700
END:VEVENT

END:VCALENDAR
