BEGIN:VCALENDAR
VERSION:2.0
PRODID:-//ChamberMaster//Event Calendar 2.0//EN
METHOD:PUBLISH
X-PUBLISHED-TTL:P3D
REFRESH-INTERVAL:P3D
CALSCALE:GREGORIAN
BEGIN:VEVENT
DTSTART:20171019T180000Z
DTEND:20171020T023000Z
X-MICROSOFT-CDO-ALLDAYEVENT:FALSE
SUMMARY:OLPH Holly Fair
DESCRIPTION:Our Lady of Perpetual Help Church Women's Club announces Holly Fair 2017\, a North Shore mainstay in its 36th year.  \n\n	Explore more than 45 booths of one-of-a-kind gift items and trend-setting accessories for women\, men\, children and home.\n	Shop new and exciting vendors among Holly Fair favorites.\n	Dine at the Candy Cane Caf  featuring lunch\, snacks and drinks.\n	Mingle at Sip and Shop - Thursday from 6:00 p.m. to 9:30 p.m.  Special event ticket includes a glass of wine\, savory and sweet light bites and Friday admission. \n	Walk the "Cookie Walk" featuring cookies\, breads and other holiday treats.\n	Win exciting prizes from the vendors in the Holly Fair Raffle!\n\n \n\nVendors donate part of their proceeds to the charitable works of the OLPH Women's Club.\n\n\n\nGeneral admission: $5 Adults\, Students Free.  \n\nThursday Sip and Shop admission: $10 Prepay/$15 at the door\, $5 Seniors and Students.
X-ALT-DESC;FMTTYPE=text/html:<span style="font-family:century gothic\,sans-serif\;">Our Lady of Perpetual Help Church Women&rsquo\;s Club announces Holly Fair 2017\, a North Shore mainstay in its 36th year.&nbsp\; </span>\n<ul>\n	<li><span style="font-family:century gothic\,sans-serif\;">Explore more than 45 booths of one-of-a-kind gift items and trend-setting accessories for women\, men\, children and home.</span></li>\n	<li><span style="font-family:century gothic\,sans-serif\;">Shop new and exciting vendors among Holly Fair favorites.</span></li>\n	<li><span style="font-family:century gothic\,sans-serif\;">Dine at the Candy Cane Caf&eacute\; featuring lunch\, snacks and drinks.</span></li>\n	<li><span style="font-family:century gothic\,sans-serif\;">Mingle at <strong><em><span style="color:#00B050\;">Sip and Shop</span></em></strong> - Thursday from 6:00 p.m. to 9:30 p.m.&nbsp\; Special event ticket includes a glass of wine\, savory and sweet light bites and Friday admission. </span></li>\n	<li><span style="font-family:century gothic\,sans-serif\;">Walk the &ldquo\;Cookie Walk&rdquo\; featuring cookies\, breads and other holiday treats.</span></li>\n	<li><span style="font-family:century gothic\,sans-serif\;">Win exciting prizes from the vendors in the Holly Fair Raffle!</span></li>\n</ul>\n&nbsp\;<br />\n<strong><span style="font-family:century gothic\,sans-serif\;">Vendors donate part of their proceeds to the charitable works of the OLPH Women&rsquo\;s Club.</span></strong><br />\n<br />\n<span style="font-family:century gothic\,sans-serif\;">General admission: $5 Adults\, Students Free.&nbsp\; </span><br />\n<strong><em><span style="color:#00B050\;"><span style="font-family:century gothic\,sans-serif\;">Thursday Sip and Shop</span></span></em></strong> <span style="font-family:century gothic\,sans-serif\;">admission: $10 Prepay/$15 at the door\, $5 Seniors and Students.</span><br />\n&nbsp\;
LOCATION:OLPH Holly Fair is located at the "Playdium"\, 1776 Glenview Road\, Glenview.
UID:e.434.7310
SEQUENCE:3
DTSTAMP:20260425T225708Z
URL:http://business.glenviewchamber.com/events/details/olph-holly-fair-7310
END:VEVENT

END:VCALENDAR
