BEGIN:VCALENDAR
VERSION:2.0
PRODID:-//ChamberMaster//Event Calendar 2.0//EN
METHOD:PUBLISH
X-PUBLISHED-TTL:P3D
REFRESH-INTERVAL:P3D
CALSCALE:GREGORIAN
BEGIN:VEVENT
DTSTART:20180313T000000Z
DTEND:20180313T013000Z
X-MICROSOFT-CDO-ALLDAYEVENT:FALSE
SUMMARY:OLPH/St. Catherine Laboure Domestic Violence Awareness Presentation
DESCRIPTION:The Many Facets of Domestic Violence\, our featured speakers: \n\nRichard Macur-Brosil LCP\, Retired \n\nYesenia Maldonado LCSW\, Executive Director at Between Friends \n\nJulie Fleckenstein LCSW\, Social Worker with the Glenview Police Department \n\nOur speakers will introduce the 5 facets of DV\, review the non-physical forms of DV\, the toll this takes on families/children\, along with breaking out of the DV cycle and the process of having a victims advocate\, if criminal charges are made. \n\n\n\nMyth: Domestic violence is bad\, but it happens elsewhere. It doesn't happen in my community\, my neighborhood\, my culture\, my religion or my congregation.\n\nFact: Domestic violence happens to people of every educational and socio-economic level. Domestic violence happens in all races\, religions and age groups. Domestic violence occurs in both heterosexual and same-sex relationships.
X-ALT-DESC;FMTTYPE=text/html:<p>The Many Facets of Domestic Violence\, our featured speakers:&nbsp\;</p>\n\n<p>Richard Macur-Brosil LCP\, Retired&nbsp\;<br />\nYesenia Maldonado LCSW\, Executive Director at Between Friends&nbsp\;<br />\nJulie Fleckenstein LCSW\, Social Worker with the Glenview Police Department&nbsp\;</p>\n\n<p>Our speakers will introduce the 5 facets of DV\, review the non-physical forms of DV\, the toll this takes on families/children\, along with breaking out of the DV cycle and the process of having a victims advocate\, if criminal charges are made.&nbsp\;</p>\n\n<p><br />\nMyth: Domestic violence is bad\, but it happens elsewhere. It doesn&#39\;t happen in my community\, my neighborhood\, my culture\, my religion or my congregation.</p>\n\n<p>Fact: Domestic violence happens to people of every educational and socio-economic level. Domestic violence happens in all races\, religions and age groups. Domestic violence occurs in both heterosexual and same-sex relationships.&nbsp\;</p>\n
LOCATION:OLPH Church 1775 Grove St. McDonnell Hall Glenview
UID:e.434.8737
SEQUENCE:3
DTSTAMP:20260425T163559Z
URL:http://business.glenviewchamber.com/events/details/olph-st-catherine-laboure-domestic-violence-awareness-presentation-8737
END:VEVENT

END:VCALENDAR
