BEGIN:VCALENDAR
VERSION:2.0
PRODID:-//ChamberMaster//Event Calendar 2.0//EN
METHOD:PUBLISH
X-PUBLISHED-TTL:P3D
REFRESH-INTERVAL:P3D
CALSCALE:GREGORIAN
BEGIN:VEVENT
DTSTART:20191025T220000Z
DTEND:20191026T000000Z
X-MICROSOFT-CDO-ALLDAYEVENT:FALSE
SUMMARY:OLPH Trunk or Treat
DESCRIPTION:Join us for the 5th annual OLPH Trunk or Treat\n\nTreats\n\nFood \n\nMusic
X-ALT-DESC;FMTTYPE=text/html:Join us for the 5th annual OLPH Trunk or Treat<br />\nTreats<br />\nFood&nbsp\;<br />\nMusic<br />\n&nbsp\;
LOCATION:OLPH Church Parking Lot 1775 Grove Street Enter on Glenview Road
UID:e.434.10263
SEQUENCE:3
DTSTAMP:20260424T174936Z
URL:http://business.glenviewchamber.com/events/details/olph-trunk-or-treat-10263
END:VEVENT

END:VCALENDAR
