BEGIN:VCALENDAR
VERSION:2.0
PRODID:-//ChamberMaster//Event Calendar 2.0//EN
METHOD:PUBLISH
X-PUBLISHED-TTL:P3D
REFRESH-INTERVAL:P3D
CALSCALE:GREGORIAN
BEGIN:VEVENT
DTSTART:20171027T220000Z
DTEND:20171028T000000Z
X-MICROSOFT-CDO-ALLDAYEVENT:FALSE
SUMMARY:OLPH Trunk or Treat
DESCRIPTION:Join us for the 3rd Annual OLPH Trunk or Treat on Friday\, October 27 from 5-7 p.m. \n\nTreats\n\nFood\n\nMusic\n\nRaffle\n\nSponsored by Guilds 1 & 36
X-ALT-DESC;FMTTYPE=text/html:Join us for the 3rd Annual OLPH Trunk or Treat on Friday\, October 27 from 5-7 p.m.&nbsp\;<br />\nTreats<br />\nFood<br />\nMusic<br />\nRaffle<br />\nSponsored by Guilds 1 &amp\; 36
LOCATION:OLPH Church parking lot. Enter on Glenview Road 1775 Grove Street\, Glenview
UID:e.434.7319
SEQUENCE:3
DTSTAMP:20260425T225053Z
URL:http://business.glenviewchamber.com/events/details/olph-trunk-or-treat-7319
END:VEVENT

END:VCALENDAR
