BEGIN:VCALENDAR
VERSION:2.0
PRODID:-//ChamberMaster//Event Calendar 2.0//EN
METHOD:PUBLISH
X-PUBLISHED-TTL:P3D
REFRESH-INTERVAL:P3D
CALSCALE:GREGORIAN
BEGIN:VEVENT
DTSTART:20190325T160000Z
DTEND:20190325T200000Z
X-MICROSOFT-CDO-ALLDAYEVENT:FALSE
SUMMARY:Open Studio- Pinot's Palette
DESCRIPTION:March 25th - 28th is Open Studio from 11am - 3pm.
X-ALT-DESC;FMTTYPE=text/html:<span style="font-family: &quot\;times new roman&quot\;\, serif\; font-size: 16px\;">March 25th - 28th is Open Studio from 11am - 3pm.</span>
LOCATION:Pinot's Palette The Glen P: 847.730.5972 C: 847.970.8709 www.pinotspalette.com/theglen 2011 Tower Drive Glenview\, IL 60026
UID:e.434.10114
SEQUENCE:3
DTSTAMP:20260425T034717Z
URL:http://business.glenviewchamber.com/events/details/open-studio-pinot-s-palette-10114
END:VEVENT

END:VCALENDAR
