BEGIN:VCALENDAR
VERSION:2.0
PRODID:-//ChamberMaster//Event Calendar 2.0//EN
METHOD:PUBLISH
X-PUBLISHED-TTL:P3D
REFRESH-INTERVAL:P3D
CALSCALE:GREGORIAN
BEGIN:VEVENT
DTSTART:20180520T200000Z
DTEND:20180520T220000Z
X-MICROSOFT-CDO-ALLDAYEVENT:FALSE
SUMMARY:Organ Walk 7
DESCRIPTION:On Sunday afternoon\, May 20th\, The Simple Gifts Community Concert Series of the Glenview Community Church presents Organ Walk 7 at 3:00p.m. Our "progressive organ party" will begin at the Glenview New Church\, 74 Park Drive in Glenview\, with organist Dr. Kirstin Synnestvedt. Then we will walk to St. David's Episcopal\, 2410 Glenview Road\, to hear Richard Spantikow\, Minister of Music. We will finish at Glenview Community Church with Gary Wendt\, Minister for Music. A free will offering benefits the Northfield Township Food Pantry. Bring your bikes or red wagons and be a part of this fun event! For more information visit www.gccmusic.org or call the church office at (847) 724-2210.
X-ALT-DESC;FMTTYPE=text/html:On Sunday afternoon\, May 20th\, The Simple Gifts Community Concert Series of the Glenview Community Church presents Organ Walk 7 at 3:00p.m. Our &ldquo\;progressive organ party&rdquo\; will begin at the Glenview New Church\, 74 Park Drive in Glenview\, with organist Dr. Kirstin Synnestvedt. Then we will walk to St. David&rsquo\;s Episcopal\, 2410 Glenview Road\, to hear Richard Spantikow\, Minister of Music. We will finish at Glenview Community Church with Gary Wendt\, Minister for Music. A free will offering benefits the Northfield Township Food Pantry. Bring your bikes or red wagons and be a part of this fun event! For more information visit www.gccmusic.org or call the church office at (847) 724-2210.
LOCATION:Glenview Community Church\, 1000 Elm St.
UID:e.434.9780
SEQUENCE:3
DTSTAMP:20260425T135433Z
URL:http://business.glenviewchamber.com/events/details/organ-walk-7-9780
END:VEVENT

END:VCALENDAR
