BEGIN:VCALENDAR
VERSION:2.0
PRODID:-//ChamberMaster//Event Calendar 2.0//EN
METHOD:PUBLISH
X-PUBLISHED-TTL:P3D
REFRESH-INTERVAL:P3D
CALSCALE:GREGORIAN
BEGIN:VEVENT
DTSTART;VALUE=DATE:20190330
DTEND;VALUE=DATE:20190331
TRANSP:TRANSPARENT
X-MICROSOFT-CDO-ALLDAYEVENT:TRUE
SUMMARY:Paint Your Pet at Pinot's Palette
DESCRIPTION:March 30th is "Paint your pet at Pinot's Palette!"
X-ALT-DESC;FMTTYPE=text/html:<strong>March 30th </strong>is &ldquo\;Paint your pet at Pinot&rsquo\;s Palette!&rdquo\;
LOCATION:Pinot's Palette 2011 Tower Drive Glenview\, IL 60025 847-730-5972 www.pinotspalette.com/theglen
UID:e.434.10113
SEQUENCE:3
DTSTAMP:20260425T035124Z
URL:http://business.glenviewchamber.com/events/details/paint-your-pet-at-pinot-s-palette-10113
END:VEVENT

END:VCALENDAR
