BEGIN:VCALENDAR
VERSION:2.0
PRODID:-//ChamberMaster//Event Calendar 2.0//EN
METHOD:PUBLISH
X-PUBLISHED-TTL:P3D
REFRESH-INTERVAL:P3D
CALSCALE:GREGORIAN
BEGIN:VEVENT
DTSTART:20180630T223000Z
DTEND:20180701T033000Z
X-MICROSOFT-CDO-ALLDAYEVENT:FALSE
SUMMARY:Pantry Palooza Rock 2 Stock Music Fest
DESCRIPTION:The Northfield Township Food Pantry Auxiliary Board\, in partnership with the Glenview Chamber of Commerce and with the support of Rock Star Sponsors GHP Group\, Wintrust Community Banks and Underwriters Laboratories\, will be hosting the 2nd annual Pantry Palooza Rock 2 Stock Music Fest on Saturday\, June 30th from 5:30 pm   10:30 pm in the downtown Glenview Metra parking lot located at Washington Street and Lehigh Avenue (following Glenview Summerfest). \n\n \n\nFor just $10 per person at the door (cash only) attendees will enjoy live music\, dancing and children's activities.  This year's music lineup includes 97.9\, the Victor Brown Band and Grace Sands & Co.  Food provided by Pizano's Pizza and Pasta and Rio Bamba\, along with beer\, wine\, water and soft drinks\, will be available for purchase. \n\n \n\nAll proceeds benefit the Northfield Township Food Pantry a client choice food pantry that provides assistance to 630 households in Glenview\, Northbrook and Northfield.   Food insecurity is a very real problem that affects many of our neighbors and their children.  Come rock the night away and support the Northfield Township Food Pantry and its belief that Hunger is Unacceptable in Our Community.  You can make a difference in the lives of our neighbors in need and have fun at the same time.\n\n \n\nPantry Palooza Rock 2 Stock Music Fest is made possible due to the support of our sponsors Autohaus on Edens\, Berkshire Hathaway HomeServices Koenig Rubloff Realty Group\, Glenview State Bank\, Northbrook Toyota and US Bank.\n\n \n\nFor more information about Pantry Palooza or the Northfield Township Food Pantry visit www.twp.northfield.il.us/pantry or call 847-724-8300.
X-ALT-DESC;FMTTYPE=text/html:The Northfield Township Food Pantry Auxiliary Board\, in partnership with the Glenview Chamber of Commerce and with the support of Rock Star Sponsors <strong>GHP Group</strong>\, <strong>Wintrust Community Banks</strong> and <strong>Underwriters Laboratories\,</strong> will be hosting the 2<sup>nd</sup> annual Pantry Palooza Rock 2 Stock Music Fest on Saturday\, June 30<sup>th</sup> from 5:30 pm &ndash\; 10:30 pm in the downtown Glenview Metra parking lot located at Washington Street and Lehigh Avenue (following Glenview Summerfest).&nbsp\;<br />\n&nbsp\;<br />\nFor just $10 per person at the door (cash only) attendees will enjoy live music\, dancing and children&rsquo\;s activities.&nbsp\; This year&rsquo\;s music lineup includes 97.9\, the Victor Brown Band and Grace Sands &amp\; Co.&nbsp\; Food provided by Pizano&rsquo\;s Pizza and Pasta and Rio Bamba\, along with beer\, wine\, water and soft drinks\, will be available for purchase.&nbsp\;<br />\n&nbsp\;<br />\nAll proceeds benefit the Northfield Township Food Pantry a client choice food pantry that provides assistance to 630 households in Glenview\, Northbrook and Northfield. &nbsp\;&nbsp\;Food insecurity is a very real problem that affects many of our neighbors and their children.&nbsp\; Come rock the night away and support the Northfield Township Food Pantry and its belief that <strong>Hunger is Unacceptable in Our Community</strong>.&nbsp\; You can make a difference in the lives of our neighbors in need and have fun at the same time.<br />\n&nbsp\;<br />\nPantry Palooza Rock 2 Stock Music Fest is made possible due to the support of our sponsors Autohaus on Edens\, Berkshire Hathaway HomeServices Koenig Rubloff Realty Group\, Glenview State Bank\, Northbrook Toyota and US Bank.<br />\n&nbsp\;<br />\nFor more information about Pantry Palooza or the Northfield Township Food Pantry visit <a href="http://www.twp.northfield.il.us/pantry">www.twp.northfield.il.us/pantry</a> or call 847-724-8300.&nbsp\;
LOCATION:The downtown Glenview Metra parking lot at Washington Street and Lehigh Avenue.
UID:e.434.9777
SEQUENCE:3
DTSTAMP:20260425T125235Z
URL:http://business.glenviewchamber.com/events/details/pantry-palooza-rock-2-stock-music-fest-9777
END:VEVENT

END:VCALENDAR
