BEGIN:VCALENDAR
VERSION:2.0
PRODID:-//ChamberMaster//Event Calendar 2.0//EN
METHOD:PUBLISH
X-PUBLISHED-TTL:P3D
REFRESH-INTERVAL:P3D
CALSCALE:GREGORIAN
BEGIN:VEVENT
DTSTART:20170624T230000Z
DTEND:20170625T030000Z
X-MICROSOFT-CDO-ALLDAYEVENT:FALSE
SUMMARY:Pantry Palooza Rock 2 Stock Streetfest
DESCRIPTION:Pantry Palooza will be held on Saturday\, June 24th from 6:00-10:00 pm at the downtown Glenview Metra parking lot\, following  Glenview's Summer Fest. Live music will be performed by 97 Nine\, Rock House favorite Van Houten and the Evanston School of Rock House Band. Local food vendors\, beer\, wine\, dancing and family fun will complete the Street fest.  Eat\, drink and dance to raise funds for a very worthy cause!\n\nGeneral admission is $10 at the door.  Children 12 and under are free with a paid adult.
X-ALT-DESC;FMTTYPE=text/html:<p><span style="font-size:12pt">Pantry Palooza will be held on Saturday\, June 24th from 6:00-10:00 pm at the downtown Glenview Metra parking lot\, following &nbsp\;Glenview&rsquo\;s Summer Fest. Live music will be performed by 97 Nine\, Rock House favorite Van Houten and the Evanston School of Rock House Band. Local food vendors\, beer\, wine\, dancing and family fun will complete the Street fest. &nbsp\;Eat\, drink and dance to raise funds for a very worthy cause!</span></p>\n\n<p><span style="font-size:12pt">General admission is $10</span><span style="color:rgb(255\, 0\, 0)\; font-size:12pt"> </span><span style="font-size:12pt">at the door</span><span style="font-size:12pt">. &nbsp\;Children 12 and under are free with a paid adult. </span></p>\n\n<div>&nbsp\;</div>\n
LOCATION:
UID:e.434.6968
SEQUENCE:3
DTSTAMP:20260426T042345Z
URL:http://business.glenviewchamber.com/events/details/pantry-palooza-rock-2-stock-street-fest-6968
END:VEVENT

END:VCALENDAR
