BEGIN:VCALENDAR
VERSION:2.0
PRODID:-//ChamberMaster//Event Calendar 2.0//EN
METHOD:PUBLISH
X-PUBLISHED-TTL:P3D
REFRESH-INTERVAL:P3D
CALSCALE:GREGORIAN
BEGIN:VEVENT
DTSTART:20180210T140000Z
DTEND:20180210T180000Z
X-MICROSOFT-CDO-ALLDAYEVENT:FALSE
SUMMARY:Parents in Partnership
DESCRIPTION:Parents in Partnership\, a free parenting seminar\, is designed to provide tips and strategies to assist parents with the challenging job of raising children.\n\n \n\nThe seminar is free to any parent living in the Glenview area and will be held at Attea Middle School\, 2500 Chestnut Avenue\, on Saturday\, February 10\, 2018 from 8 am-12 pm. A continental breakfast will be provided free of charge to all attendees.\n\n \n\nThis year's program provides educational workshop led by experts in the field in the following areas: Stress and Anxiety\; Social Emotional Learning\; and Technology. \n\n\n\nThe morning will be kicked off by Renee Z. Dominguez\, PhD\, a Licensed Clinical Psychologist and the Executive Director of the Family Service Center of Wilmette\, Glenview\, Northbrook\, and Kenilworth (FSC). Dr. Dominguez will provide a keynote address on the following:\n\n \n\n"Well-intended parents\, unintended consequences:  Context and considerations for raising emotionally healthy children in a competitive\, high achieving\, and digitally driven world"\n\nRemaining focused\, grounded\, and present for our children has become increasingly difficult in a world where information sharing and gathering is accessible with one touch.  Similarly\, our children are bombarded by snapshot images and messages that perpetuate the inaccurate perception that other people's lives are perfect\, thereby undermining their own real experiences with being human and imperfect.  In this keynote address\, Dr. Dominguez will discuss the challenging social context in which we are parenting and our children are developing.  She will offer key strategies to employ as we navigate these rough waters.\n\nFollowing a general session to start the day\, attendees will have the opportunity to attend breakout presentations from a list of approximately 25 sessions. There will be a wide range of offerings for parents of children birth through 8th grade. Educational and parenting experts will lead those sessions.
X-ALT-DESC;FMTTYPE=text/html:<p>Parents in Partnership\, a free parenting seminar\, is designed to provide tips and strategies to assist parents with the challenging job of raising children.<br />\n&nbsp\;<br />\nThe seminar is free to any parent living in the Glenview area and will be held at Attea Middle School\, 2500 Chestnut Avenue\, on Saturday\, February 10\, 2018 from 8 am-12 pm. A continental breakfast will be provided free of charge to all attendees.<br />\n&nbsp\;<br />\nThis year&rsquo\;s program provides educational workshop led by experts in the field in the following areas: Stress and Anxiety\; Social Emotional Learning\; and Technology.&nbsp\;</p>\n\n<p><br />\nThe morning will be kicked off by Renee Z. Dominguez\, PhD\, a Licensed Clinical Psychologist and the Executive Director of the Family Service Center of Wilmette\, Glenview\, Northbrook\, and Kenilworth (FSC). Dr. Dominguez will provide a keynote address on the following:<br />\n&nbsp\;<br />\n&ldquo\;Well-intended parents\, unintended consequences:&nbsp\; Context and considerations for raising emotionally healthy children in a competitive\, high achieving\, and digitally driven world&rdquo\;</p>\n\n<p>Remaining focused\, grounded\, and present for our children has become increasingly difficult in a world where information sharing and gathering is accessible with one touch.&nbsp\; Similarly\, our children are bombarded by snapshot images and messages that perpetuate the inaccurate perception that other people&rsquo\;s lives are perfect\, thereby undermining their own real experiences with being human and imperfect.&nbsp\; In this keynote address\, Dr. Dominguez will discuss the challenging social context in which we are parenting and our children are developing.&nbsp\; She will offer key strategies to employ as we navigate these rough waters.</p>\n\n<p>Following a general session to start the day\, attendees will have the opportunity to attend breakout presentations from a list of approximately 25 sessions. There will be a wide range of offerings for parents of children birth through 8th grade. Educational and parenting experts will lead those sessions.&nbsp\;</p>\n\n<p>&nbsp\;</p>\n
LOCATION:Attea Middle School\, 2500 Chestnut Avenue\, on Saturday\, February 10\, 2018 from 8 am-12 pm.
UID:e.434.8721
SEQUENCE:3
DTSTAMP:20260425T162411Z
URL:http://business.glenviewchamber.com/events/details/parents-in-partnership-8721
END:VEVENT

END:VCALENDAR
