BEGIN:VCALENDAR
VERSION:2.0
PRODID:-//ChamberMaster//Event Calendar 2.0//EN
METHOD:PUBLISH
X-PUBLISHED-TTL:P3D
REFRESH-INTERVAL:P3D
CALSCALE:GREGORIAN
BEGIN:VEVENT
DTSTART:20180309T233000Z
DTEND:20180310T020000Z
X-MICROSOFT-CDO-ALLDAYEVENT:FALSE
SUMMARY:Pasta Dinner Benefit for Northfield Township Food Pantry
DESCRIPTION:The Northfield Township Food Pantry Auxiliary Board invites you to a:\n\nPasta Dinner Benefit\n\n$20.00 suggested donation per family up to four people\n\n$5.00 for each additional person (includes dinner\, dessert and water)\n\nSoft drinks will be available for purchase.\n\nRaffle tickets: $3.00 or 4 for $10.00\n\nAll proceeds benefit the Northfield Township Food Pantry\n\nHunger is Unacceptable in our community
X-ALT-DESC;FMTTYPE=text/html:The Northfield Township Food Pantry Auxiliary Board invites you to a:<br />\nPasta Dinner Benefit<br />\n$20.00 suggested donation per family up to four people<br />\n$5.00 for each additional person (includes dinner\, dessert and water)<br />\nSoft drinks will be available for purchase.<br />\nRaffle tickets: $3.00 or 4 for $10.00<br />\nAll proceeds benefit the Northfield Township Food Pantry<br />\nHunger is Unacceptable in our community<br />\n&nbsp\;
LOCATION:Gloria Dei Lutheran Church 1133 Pfingsten Road Northbrook
UID:e.434.8742
SEQUENCE:3
DTSTAMP:20260425T163657Z
URL:http://business.glenviewchamber.com/events/details/pasta-dinner-benefit-for-northfield-township-food-pantry-8742
END:VEVENT

END:VCALENDAR
