BEGIN:VCALENDAR
VERSION:2.0
PRODID:-//ChamberMaster//Event Calendar 2.0//EN
METHOD:PUBLISH
X-PUBLISHED-TTL:P3D
REFRESH-INTERVAL:P3D
CALSCALE:GREGORIAN
BEGIN:VEVENT
DTSTART;VALUE=DATE:20190125
DTEND;VALUE=DATE:20190126
TRANSP:TRANSPARENT
X-MICROSOFT-CDO-ALLDAYEVENT:TRUE
SUMMARY:Pinot's Palette - “Lilacs in a Glass”
DESCRIPTION:January 25th -Have a girls night out and paint "Lilacs in a Glass" -\n\nback by popular demand!
X-ALT-DESC;FMTTYPE=text/html:January 25th -Have a girls night out and paint &ldquo\;Lilacs in a Glass&rdquo\; -<br />\n<span style="font-family:calibri\,sans-serif\;"><span style="font-size:11.0pt\;">back by popular demand!&nbsp\;&nbsp\;</span></span>
LOCATION:Pinot's Palette The Glen P: 847.730.5972 www.pinotspalette.com/theglen 2011 Tower Drive Glenview\, IL 60026
UID:e.434.10069
SEQUENCE:3
DTSTAMP:20260425T035120Z
URL:http://business.glenviewchamber.com/events/details/pinot-s-palette-lilacs-in-a-glass-10069
END:VEVENT

END:VCALENDAR
