BEGIN:VCALENDAR
VERSION:2.0
PRODID:-//ChamberMaster//Event Calendar 2.0//EN
METHOD:PUBLISH
X-PUBLISHED-TTL:P3D
REFRESH-INTERVAL:P3D
CALSCALE:GREGORIAN
BEGIN:VEVENT
DTSTART:20260501T223000Z
DTEND:20260502T010000Z
X-MICROSOFT-CDO-ALLDAYEVENT:FALSE
SUMMARY:Pizza Mania
DESCRIPTION:Save the date for the best of local pizza all under one roof! Magician\, face painting\, DJ and more family friendly activities. Purchase tickets here: Donations | Wesley Child Care Center
X-ALT-DESC;FMTTYPE=text/html:Save the date for the best of local pizza all under one roof! Magician\, face painting\, DJ and more family friendly activities. Purchase tickets here:&nbsp\;<a href="https://wesleychildcarecenter.revtrak.net/Donations/#/list">Donations | Wesley Child Care Center</a>
LOCATION:Wesley Child Care Center 727 Harlem Avenue Glenview
UID:e.434.11209
SEQUENCE:3
DTSTAMP:20260424T104523Z
URL:http://business.glenviewchamber.com/events/details/pizza-mania-11209
END:VEVENT

END:VCALENDAR
