BEGIN:VCALENDAR
VERSION:2.0
PRODID:-//ChamberMaster//Event Calendar 2.0//EN
METHOD:PUBLISH
X-PUBLISHED-TTL:P3D
REFRESH-INTERVAL:P3D
CALSCALE:GREGORIAN
BEGIN:VEVENT
DTSTART:20170907T233000Z
DTEND:20170908T020000Z
X-MICROSOFT-CDO-ALLDAYEVENT:FALSE
SUMMARY:Platform Tennis Injury Prevention Seminar
DESCRIPTION:Illinois Bone & Joint Institute\n\nPlatform Tennis Injury Prevention Seminar\n\n\n\nPlatform tennis players and the general public are\n\ninvited to attend our free injury prevention seminar.\n\nThis event will focus on educating attendees on\n\nthe most common platform tennis injuries\, how\n\nto identify symptoms\, and when to seek out a\n\nphysician for formal diagnosis and treatment.\n\nOur professional panel will also include Illinois\n\nBone and Joint Institute Physical Therapist Jennifer\n\nClifford\, DPT\, and Sports Performance Specialist\n\nCarly Munson\, who will discuss preventative steps\n\nand precautions that can be taken to limit your risk\n\nof injury.
X-ALT-DESC;FMTTYPE=text/html:Illinois Bone &amp\; Joint Institute<br />\nPlatform Tennis Injury Prevention Seminar<br />\n<br />\nPlatform tennis players and the general public are<br />\ninvited to attend our free injury prevention seminar.<br />\nThis event will focus on educating attendees on<br />\nthe most common platform tennis injuries\, how<br />\nto identify symptoms\, and when to seek out a<br />\nphysician for formal diagnosis and treatment.<br />\nOur professional panel will also include Illinois<br />\nBone and Joint Institute Physical Therapist Jennifer<br />\nClifford\, DPT\, and Sports Performance Specialist<br />\nCarly Munson\, who will discuss preventative steps<br />\nand precautions that can be taken to limit your risk<br />\nof injury.
LOCATION:Valley Lo Club 2200 Tanglewood Drive Glenview\, IL 60025
UID:e.434.7299
SEQUENCE:3
DTSTAMP:20260426T001648Z
URL:http://business.glenviewchamber.com/events/details/platform-tennis-injury-prevention-seminar-7299
END:VEVENT

END:VCALENDAR
