BEGIN:VCALENDAR
VERSION:2.0
PRODID:-//ChamberMaster//Event Calendar 2.0//EN
METHOD:PUBLISH
X-PUBLISHED-TTL:P3D
REFRESH-INTERVAL:P3D
CALSCALE:GREGORIAN
BEGIN:VEVENT
DTSTART:20250915T233000Z
DTEND:20250916T010000Z
X-MICROSOFT-CDO-ALLDAYEVENT:FALSE
SUMMARY:Pressed to Impress Adult Art Workshop: Mugs & Makers
DESCRIPTION:Craft your own custom drinkware and take home a mug as unique as you are!
X-ALT-DESC;FMTTYPE=text/html:Craft your own custom drinkware and take home a mug as unique as you are!
LOCATION:North Suburban YMCA 2705 Techny Rd. Northbrook. IL 60062
UID:e.434.11272
SEQUENCE:3
DTSTAMP:20260420T074017Z
URL:http://business.glenviewchamber.com/events/details/pressed-to-impress-adult-art-workshop-mugs-makers-11272
END:VEVENT

END:VCALENDAR
