BEGIN:VCALENDAR
VERSION:2.0
PRODID:-//ChamberMaster//Event Calendar 2.0//EN
METHOD:PUBLISH
X-PUBLISHED-TTL:P3D
REFRESH-INTERVAL:P3D
CALSCALE:GREGORIAN
BEGIN:VEVENT
DTSTART:20180313T000000Z
DTEND:20180313T020000Z
X-MICROSOFT-CDO-ALLDAYEVENT:FALSE
SUMMARY:Public Forum on Amtrak Hiawatha
DESCRIPTION:The Village of Glenview will be hosting a Public Forum\, "Say No to Parking\n\nFreight Trains in Our Neighborhoods\," scheduled at 7 p.m. March 12\, 2018\, in\n\nthe Glenbrook South High School Auditorium\, at 4000 West Lake Avenue\,\n\nGlenview\, IL 60026. Many elected officials are anticipated to attend as well as\n\nVillage of Glenview staff. To be discussed are community concerns related to\n\nthe impacts of the proposal to increase Amtrak's Hiawatha service from seven\n\nto 10 round trips daily between Chicago and Milwaukee\, and particularly the\n\naccompanying plans to build a 2-mile freight train holding track in west\n\nGlenview and a new switching mechanism at Dewes Street.
X-ALT-DESC;FMTTYPE=text/html:The Village of Glenview will be hosting a Public Forum\, &quot\;Say No to Parking<br />\nFreight Trains in Our Neighborhoods\,&quot\; scheduled at 7 p.m. March 12\, 2018\, in<br />\nthe Glenbrook South High School Auditorium\, at 4000 West Lake Avenue\,<br />\nGlenview\, IL 60026. Many elected officials are anticipated to attend as well as<br />\nVillage of Glenview staff. To be discussed are community concerns related to<br />\nthe impacts of the proposal to increase Amtrak&#39\;s Hiawatha service from seven<br />\nto 10 round trips daily between Chicago and Milwaukee\, and particularly the<br />\naccompanying plans to build a 2-mile freight train holding track in west<br />\nGlenview and a new switching mechanism at Dewes Street.
LOCATION:Glenbrook South High School Auditorium 4000 West Lake Avenue Glenview\, IL
UID:e.434.8750
SEQUENCE:3
DTSTAMP:20260425T163423Z
URL:http://business.glenviewchamber.com/events/details/public-forum-on-amtrak-hiawatha-8750
END:VEVENT

END:VCALENDAR
