BEGIN:VCALENDAR
VERSION:2.0
PRODID:-//ChamberMaster//Event Calendar 2.0//EN
METHOD:PUBLISH
X-PUBLISHED-TTL:P3D
REFRESH-INTERVAL:P3D
CALSCALE:GREGORIAN
BEGIN:VEVENT
DTSTART:20180626T000000Z
DTEND:20180626T011500Z
X-MICROSOFT-CDO-ALLDAYEVENT:FALSE
SUMMARY:Public Meeting: O'Hare Operations and Impacts to Glenview
DESCRIPTION:The Village of Glenview is hosting a public meeting to update the community on physical and operational changes at O'Hare International Airport and the potential impacts on Glenview. The meeting is scheduled from 7 to 8:15 p.m. Monday\, June 25\, 2018\, in the Village Hall Board Room\, 2500 E. Lake Avenue. To help residents concerned about the daytime and nighttime flights over Glenview\, the Village of Glenview is seeking explanations and justifications for the changes at O'Hare\, with an ultimate goal of ensuring Glenview does not receive an unfair increase resulting from the new operations at O'Hare.\n\nRepresentatives of the Chicago Department of Aviation (CDA) and Federal Aviation Administration (FAA) will discuss:\n\n  Aviation agencies and their roles and responsibilities\n\n  National Environmental Policy Act requirements for changes at O'Hare\n\n  O'Hare Historical Runway Configurations and the O'Hare Modernization Program\n\n  City of Chicago's $8.5 billion deal with airlines for state-of-the-art global terminal\, dozens of gates\, and several additional concourses\n\n  O'Hare Noise Compatibility Commission (ONCC) and the Fly Quiet Program affecting nighttime flights\n\nThe meeting will include a Q&A session. Residents with an interest in and questions about aircraft noise in Glenview are encouraged to attend. Following the meeting\, residents may submit noise complaints by calling (800) 435-9569 or online at: https://servicerequest.cityofchicago.org/web_intake_chic/Controller?op=csrform&restrict_loc=Y&invSRType=AVN
X-ALT-DESC;FMTTYPE=text/html:<p>The Village of Glenview is hosting a public meeting to update the community on physical and operational changes at O&rsquo\;Hare International Airport and the potential impacts on Glenview. The meeting is scheduled from 7 to 8:15 p.m. Monday\, June 25\, 2018\, in the Village Hall Board Room\, 2500 E. Lake Avenue. To help residents concerned about the daytime and nighttime flights over Glenview\, the Village of Glenview is seeking explanations and justifications for the changes at O&rsquo\;Hare\, with an ultimate goal of ensuring Glenview does not receive an unfair increase resulting from the new operations at O&rsquo\;Hare.</p>\n\n<p>Representatives of the Chicago Department of Aviation (CDA) and Federal Aviation Administration (FAA) will discuss:<br />\n&bull\; Aviation agencies and their roles and responsibilities<br />\n&bull\; National Environmental Policy Act requirements for changes at O&rsquo\;Hare<br />\n&bull\; O&rsquo\;Hare Historical Runway Configurations and the O&rsquo\;Hare Modernization Program<br />\n&bull\; City of Chicago&rsquo\;s $8.5 billion deal with airlines for state-of-the-art global terminal\, dozens of gates\, and several additional concourses<br />\n&bull\; O&rsquo\;Hare Noise Compatibility Commission (ONCC) and the Fly Quiet Program affecting nighttime flights</p>\n\n<p>The meeting will include a Q&amp\;A session. Residents with an interest in and questions about aircraft noise in Glenview are encouraged to attend. Following the meeting\, residents may submit noise complaints by calling (800) 435-9569 or online at: https://servicerequest.cityofchicago.org/web_intake_chic/Controller?op=csrform&amp\;restrict_loc=Y&amp\;invSRType=AVN</p>\n
LOCATION:Village Hall Board Room 2500 E. Lake Avenue Glenview
UID:e.434.9789
SEQUENCE:3
DTSTAMP:20260425T124955Z
URL:http://business.glenviewchamber.com/events/details/public-meeting-o-hare-operations-and-impacts-to-glenview-9789
END:VEVENT

END:VCALENDAR
