BEGIN:VCALENDAR
VERSION:2.0
PRODID:-//ChamberMaster//Event Calendar 2.0//EN
METHOD:PUBLISH
X-PUBLISHED-TTL:P3D
REFRESH-INTERVAL:P3D
CALSCALE:GREGORIAN
BEGIN:VEVENT
DTSTART:20180301T233000Z
DTEND:20180302T053000Z
X-MICROSOFT-CDO-ALLDAYEVENT:FALSE
SUMMARY:Raising the Stakes for Vision: Poker & Casino Night
DESCRIPTION:The Chicago Lighthouse Presents Poker and Casino Night\n\nFeaturing charitable casino games\, Texas Hold 'Em Poker tournament\, premium cocktails\, Gibsons' signature dinner and desserts\, and over $20\,000 in prizes!\n\nGRAND PRIZE is a $10\,000 seat at the WORLD SERIES of POKER MAIN EVENT!\n\nProceeds will support the world-class programs and services of The Chicago Lighthouse North in Glenview for people of all ages in the north and northwest suburbs who are blind\, visually impaired\, disabled and Veterans.\n\n*Note: All tables will play with large print playing cards. Please indicate on your ticket purchase if you need to use Braille cards and we will be happy to provide them.
X-ALT-DESC;FMTTYPE=text/html:<p><strong>The Chicago Lighthouse Presents Poker and Casino Night</strong></p>\n\n<p>Featuring charitable casino games\, Texas Hold &lsquo\;Em Poker tournament\, premium cocktails\, Gibsons&rsquo\; signature dinner and desserts\, and over $20\,000 in prizes!</p>\n\n<p><strong>GRAND PRIZE is a $10\,000 seat at the WORLD SERIES of POKER MAIN EVENT!</strong></p>\n\n<p>Proceeds will support the world-class programs and services of <a href="http://www.chicagolighthouse.org/north/">The Chicago Lighthouse North</a> in Glenview for people of all ages in the north and northwest suburbs who are blind\, visually impaired\, disabled and Veterans.</p>\n\n<p><strong>*Note:</strong> All tables will play with large print playing cards. Please indicate on your ticket purchase if you need to use Braille cards and we will be happy to provide them.</p>\n
LOCATION:Gibsons Steakhouse/Hugo's Frog Bar 1024 N. Rush Street Chicago\, IL 60611
UID:e.434.8717
SEQUENCE:3
DTSTAMP:20260425T163717Z
URL:http://business.glenviewchamber.com/events/details/raising-the-stakes-for-vision-poker-casino-night-8717
END:VEVENT

END:VCALENDAR
