BEGIN:VCALENDAR
VERSION:2.0
PRODID:-//ChamberMaster//Event Calendar 2.0//EN
METHOD:PUBLISH
X-PUBLISHED-TTL:P3D
REFRESH-INTERVAL:P3D
CALSCALE:GREGORIAN
BEGIN:VEVENT
DTSTART:20171013T160000Z
DTEND:20171013T170000Z
X-MICROSOFT-CDO-ALLDAYEVENT:FALSE
SUMMARY:Ribbon Cutting Apricot Lane The Glen
DESCRIPTION:Ribbon Cutting at Apricot Lane in the Glen
X-ALT-DESC;FMTTYPE=text/html:Ribbon Cutting at Apricot Lane in the Glen
LOCATION:1951 Tower Drive Glenview
UID:e.434.7321
SEQUENCE:3
DTSTAMP:20260425T225313Z
URL:http://business.glenviewchamber.com/events/details/ribbon-cutting-apricot-lane-the-glen-7321
END:VEVENT

END:VCALENDAR
